{"text_format":"1","workbook":"xlsx","n_sheets":12,"sheets":["時間","移動","射撃","白兵","追撃","士気","部隊モラル表","時刻変化","天候変化","天候","射撃結果表","白兵戦結果表"],"not_rendered":{"charts":0,"images":0,"macros":1,"external_links":0,"defined_names":0,"comments":0,"pivot_tables":0},"unopened":[],"bounds":{"document_bytes":16777216,"sheet_cells":100000,"rows_first":2000,"rows_last":500,"rows_between":2000,"halvings":0,"cell_chars":16384,"cell_head_chars":4096},"cells_cut":0,"cells_raw":0,"read":"whole","date_system":"1900"}

{"sheet":"時間","index":0,"n_rows":14,"n_cols":12,"rows_kept":14,"cut":false,"hidden":false,"merged":[[1,1,1,3],[2,1,2,3],[3,1,3,3]]}
[null,"11:00","12:00","1:00",null,null,null,"フランス軍","連合軍",null,{"$f":"天候!A20","v":"LOSの最大HEX"},{"$f":"天候!F20","v":"無限"}]
["10:00",":00",null,null,"2:00",null,"指揮",null,null,null,{"$f":"天候!A21","v":"散開隊形の射撃射程HEX"},{"$f":"天候!F21","v":2}]
["9:00",":20",null,null,"3:00",null,"騎兵突撃",null,null,null,{"$f":"天候!A22","v":"騎兵突撃"},{"$f":"天候!F22","v":"可能"}]
["8:00",":40",null,null,"4:00",null,"移動",null,null,null,{"$f":"天候!A23","v":"騎兵突撃のボーナス"},{"$f":"天候!F23","v":"移動力＋５"}]
[null,"7:00","6:00","5:00",null,null,"敵軍の防御射撃",null,null,null,{"$f":"天候!A24","v":"歩兵射撃の可否　補正(%)"},{"$f":"天候!F24","v":0}]
["シート保護中",null,null,"午後1時は13と入力",null,null,"自軍の攻勢射撃",null,null,null,{"$f":"天候!A25","v":"砲兵射撃の可否　補正(%)"},{"$f":"天候!F25","v":0}]
["時間帯","天候","場所","開始時","開始分",null,"白兵戦",null,null,null,{"$f":"天候!A26","v":"歩兵移動力補正(%)"},{"$f":"天候!F26","v":0}]
["昼","晴",{"$f":"IF(B8=\"雷雨\",天候変化!N31,\"\")","v":""},8,20,null,"回復",null,null,null,{"$f":"天候!A27","v":"騎兵移動力補正(%)"},{"$f":"天候!F27","v":0}]
[null,null,null,null,null,null,null,null,null,null,{"$f":"天候!A28","v":"砲兵移動力補正(%)"},{"$f":"天候!F28","v":0}]
[]
[]
[]
[]
["天候条件設定",null,"現在＝","標準"]

{"sheet":"移動","index":1,"n_rows":19,"n_cols":7,"rows_kept":19,"cut":false,"hidden":false,"merged":[]}
[null,"移動力",null,null,null,"移動力"]
[null,"印刷値","補正後",null,null,"印刷値","補正後"]
["歩兵",4,{"$f":"B3*(100+天候!E$26)/100","v":4},null,"砲兵",4,{"$f":"F3*(100+天候!E$28)/100","v":4}]
[null,5,{"$f":"B4*(100+天候!E$26)/100","v":5},null,null,5,{"$f":"F4*(100+天候!E$28)/100","v":5}]
[null,6,{"$f":"B5*(100+天候!E$26)/100","v":6},null,null,6,{"$f":"F5*(100+天候!E$28)/100","v":6}]
[null,7,{"$f":"B6*(100+天候!E$26)/100","v":7},null,null,7,{"$f":"F6*(100+天候!E$28)/100","v":7}]
[null,8,{"$f":"B7*(100+天候!E$26)/100","v":8},null,null,8,{"$f":"F7*(100+天候!E$28)/100","v":8}]
[null,9,{"$f":"B8*(100+天候!E$26)/100","v":9},null,null,9,{"$f":"F8*(100+天候!E$28)/100","v":9}]
[null,null,null,null,null,10,{"$f":"F9*(100+天候!E$28)/100","v":10}]
["騎兵",7,{"$f":"B10*(100+天候!E$27)/100","v":7},null,null,11,{"$f":"F10*(100+天候!E$28)/100","v":11}]
[null,8,{"$f":"B11*(100+天候!E$27)/100","v":8},null,null,12,{"$f":"F11*(100+天候!E$28)/100","v":12}]
[null,9,{"$f":"B12*(100+天候!E$27)/100","v":9}]
[null,10,{"$f":"B13*(100+天候!E$27)/100","v":10}]
[null,11,{"$f":"B14*(100+天候!E$27)/100","v":11}]
[null,12,{"$f":"B15*(100+天候!E$27)/100","v":12}]
[null,13,{"$f":"B16*(100+天候!E$27)/100","v":13}]
[null,14,{"$f":"B17*(100+天候!E$27)/100","v":14}]
[null,15,{"$f":"B18*(100+天候!E$27)/100","v":15}]
[null,16,{"$f":"B19*(100+天候!E$27)/100","v":16}]

{"sheet":"射撃","index":2,"n_rows":21,"n_cols":8,"rows_kept":21,"cut":false,"hidden":false,"merged":[[20,1,20,2],[14,1,14,2]]}
[null,"目標",null,"備考",null,"計算用作業領域"]
["地形防御値",6]
["目標戦力数",7,null,null,null,{"$f":"IF(B3<10,0,B3-9)","v":0}]
["隣接補正",null,null,"砲兵の目標の場合に隣接なら1、それ以外は空白（散弾射撃用）",null,"補正後＝",1.5099999904632568]
[]
[null,"射撃側１","射撃側２","単独の場合は射撃側２の射撃値と戦力数を０"]
["射撃値",12,null,"縦隊、一般隊形、混乱または砲兵の場合"]
["戦力数",0,0,"横隊、散開隊形、方陣の場合"]
["掛算係数",1,3,"上記隊形のチャートの値を参照"]
["割算係数",1,1,"方陣は３、混乱は２",null,{"$f":"(B7+B8*B9)/B10","v":12},{"$f":"(C7+C8*C9)/C10","v":0}]
["指揮官修正（モラル値）",0,1,"一緒なら印刷値、隣接HEXに居れば印刷値÷２（切捨て）",null,{"$f":"ROUNDDOWN(B12/10,0)*6+(B12-ROUNDDOWN(B12/10,0)*10)-B14-B11-F13","v":18},{"$f":"ROUNDDOWN(C12/10,0)*6+(C12-ROUNDDOWN(C12/10,0)*10)-C14-C11-G13","v":18}]
["ユニットモラル値",26,21,"モラル補正しない場合は0",null,{"$f":"(F11*F10+G11*G10)/(F10+G10)","v":18}]
["50%以上戦力損失",0,1,"損失ありなら１、その他は０",null,{"$f":"IF(B13=1,-6,0)","v":0},{"$f":"IF(C13=1,-6,0)","v":-6}]
["部隊モラル修正",0,0,"軍団・師団・旅団などの管理単位毎の修正値（マイナス）"]
["英国ライフル中隊修正",null,null,"射撃側に英国ライフル中隊が居る場合は1、居ない場合は空白",null,"セル色＝",10086143,"(注)マクロが動作すると、再度乱数が発生して上書される。"]
[null,null,null,null,null,"乱数２＝",{"$f":"(ROUNDDOWN(RANDBETWEEN(100,699)/100,0)-1)*6+ROUNDDOWN(RANDBETWEEN(100,699)/100,0)","v":17},"：射撃結果判定用（１〜３６）"]
["射撃側の兵科","歩兵","砲兵",null,null,{"$f":"1+((天候!E24)/100)","v":1},{"$f":"1+((天候!E25)/100)","v":1}]
["射撃比",{"$f":"($F$10+$G$10)*F17/$B$2","v":2},{"$f":"($F$10+$G$10)*G17/$B$2","v":2},"時間帯・天候による補正",null,{"$f":"ROUNDDOWN((18-$F$12)/3,0)+$F$3","v":0},{"$f":"ROUNDDOWN((18-$F$12)/3,0)+$F$3","v":0}]
["ダイス修正値",{"$f":"IF($B$12<>0,F18,$F$3)","v":0},{"$f":"IF($B$12<>0,G18,$F$3)","v":0},null,null,"乱数１＝",{"$f":"ROUNDDOWN(RANDBETWEEN(100,599)/100,0)","v":3},"：死傷種別用（１〜５）"]
["射撃による損失",1,1,"判定後は色が変わる",null,"乱数３＝",{"$f":"ROUNDDOWN(RANDBETWEEN(100,699)/100,0)+ROUNDDOWN(RANDBETWEEN(100,699)/100,0)","v":6},"：脚負傷用（２〜１２）"]
["指揮官の死傷","なし",null,null,null,"乱数４＝",{"$f":"ROUNDDOWN(RANDBETWEEN(100,699)/100,0)","v":3},"：腕負傷用（１〜６）"]

{"sheet":"白兵","index":3,"n_rows":17,"n_cols":12,"rows_kept":17,"cut":false,"hidden":false,"merged":[[16,1,16,2],[16,3,16,4],[14,3,14,4],[15,3,15,4],[14,1,14,2],[15,1,15,2]]}
[null,"攻撃側１","攻撃側２","防御側１","防御側２",null,null,"計算用作業領域"]
["白兵戦値",12,17,14,4]
["初期戦力数",10,8,7,6,null,null,"乱数１＝",{"$f":"ROUNDDOWN(RANDBETWEEN(100,699)/100,0)","v":4},"：死傷種別用（１〜６）"]
["現在戦力数",9,4,3,4,"単独の場合は攻撃側２、防御側２の現在戦力数を０",null,"乱数２＝",{"$f":"(ROUNDDOWN(RANDBETWEEN(100,699)/100,0)-1)*6+ROUNDDOWN(RANDBETWEEN(100,699)/100,0)","v":11},"：白兵戦結果判定用（１〜３６）"]
["掛算係数",1,1,1,1,"騎兵突撃は２"]
["割算係数",1,1,1,1,"散開、混乱、疲労（騎兵）は２、\n方陣、潰走、消耗（騎兵）は３"]
[null,null,null,null,null,null,null,{"$f":"IF(B3/2<B4,0,-6)","v":0},{"$f":"IF(C3/2<C4,0,-6)","v":-6},{"$f":"IF(D3/2<D4,0,-6)","v":-6},0,"50%損失判定"]
["指揮官修正（白兵戦値）",0,0,0,0,"一緒なら印刷値、隣接HEXに居れば印刷値÷２（切捨て）",null,{"$f":"IF(B8>C8,B8,C8)","v":0},null,{"$f":"IF(D8>E8,D8,E8)","v":0}]
["ユニットモラル値",25,32,26,24,"モラル補正しない場合は0",null,{"$f":"ROUNDDOWN(B9/10,0)*6+(B9-ROUNDDOWN(B9/10,0)*10)-H7-B10-B8*3","v":17},{"$f":"ROUNDDOWN(C9/10,0)*6+(C9-ROUNDDOWN(C9/10,0)*10)-I7-C10-C8*3","v":26},{"$f":"ROUNDDOWN(D9/10,0)*6+(D9-ROUNDDOWN(D9/10,0)*10)-J7-D10-D8*3","v":27},{"$f":"ROUNDDOWN(E9/10,0)*6+(E9-ROUNDDOWN(E9/10,0)*10)-K7-E10-E8*3","v":16}]
["部隊モラル修正",0,0,-3,0,"軍団・師団・旅団などの管理単位毎の修正値（マイナス）",null,null,{"$f":"(H9*B4+I9*C4)/(B4+C4)","v":19.76923076923077},null,{"$f":"(J9*D4+K9*E4)/(D4+E4)","v":20.714285714285715}]
[null,null,null,null,null,null,null,{"$f":"ROUNDDOWN((K10-I10)/3,0)","v":0}]
[]
["戦力比",{"$f":"(B2*B4/B3*B5/B6+C2*C4/C3*C5/C6)/(D2*D4/D3*D5/D6+E2*E4/E3*E5/E6)","v":2.226923076923077}]
["ダイス修正値",{"$f":"IF(B9<>0,H11,H8-J8)","v":0}]
[null,"攻撃側",null,"防御側"]
["白兵戦結果",2,null,"モラルチェックと2",null,"判定後は色が変わる"]
["指揮官の死傷"]

{"sheet":"追撃","index":4,"n_rows":25,"n_cols":8,"rows_kept":25,"cut":false,"hidden":false,"merged":[]}
[null,"騎兵１","騎兵２",null,null,"計算用作業領域"]
["戦力数",12,5,"単独の場合は騎兵２の戦力数を０",null,{"$f":"(0.75*(F8*B2*F3+G8*C2*G3))","v":4.6612799999999996}]
["モラル値",16,15,null,null,{"$f":"IF(B7>10,10,B7)","v":9},{"$f":"IF(C7>10,10,C7)","v":10},"移動力補正（１０以下）"]
["50%以上戦力損失",0,0,"損失ありなら１、その他は０",null,{"$f":"IF(B4=1,-6,0)","v":0},{"$f":"IF(C4=1,-6,0)","v":0}]
["指揮官修正（騎兵値）",0,0,null,null,"乱数３＝",{"$f":"ROUNDDOWN(RANDBETWEEN(100,699)/100,0)+ROUNDDOWN(RANDBETWEEN(100,699)/100,0)","v":7},"：サーベル命中用（２〜１２）"]
["特別ボーナス",0,0,"ヴィストラ槍騎兵は１２、ポーランド槍騎兵は６、その他は０",null,{"$f":"G5","v":7},{"$f":"F6","v":7},"２つダイス値の合計"]
["移動力の残数",9,10,"突撃時は５加算（但し、MAX10)",null,{"$f":"ROUNDDOWN(B3/10,0)*6+(B3-ROUNDDOWN(B3/10,0)*10)","v":12},{"$f":"ROUNDDOWN(C3/10,0)*6+(C3-ROUNDDOWN(C3/10,0)*10)","v":11}]
["追撃戦果(step数）",6,null,"判定後は色が変わる",null,{"$f":"(F6+(18-F7+F4)/3+B5+B6)/100*$F9","v":3.8879999999999998E-2},{"$f":"(G6+(18-G7+G4)/3+C5+C6)/100*$F9","v":4.0320000000000002E-2},"Hitする確率"]
[null,null,null,null,null,0.432,null,"調整パラメータ"]
[]
[]
[null,null,null,null,null,"騎兵の速度を約12km/hとして、1HEX(100m)を通過する時間は30秒。"]
[null,null,null,null,null,"１０分間（１ターンの１／２で自軍の割合）の平均で考えて、30秒でサーベルを振れる回数は、約１〜２回。"]
[null,null,null,null,null,"Hitする確率をＮとして、１．５×Ｎが１人１ＨＥＸでの成果。"]
[null,null,null,null,null,"騎兵は歩兵に比べて1/2の人数で１戦力なので、１．５Ｎ×戦力数÷２が１HEX当たり歩兵に与える損失。"]
[null,null,null,null,null,"移動できるＨＥＸ数を掛けて０．７５Ｎ×戦力数×移動力残数が歩兵に与える合計損失。"]
[null,null,null,null,null,"Hitする確率をＮは、ダイスの目、モラル値、指揮官修正、特別ボーナスを考えて、以下とする。"]
[null,null,null,null,null,"Ｎ＝（ダイスの目＋（１８ーモラル値）÷３＋指揮官修正＋特別ボーナス）÷１００×α"]
[]
[null,null,null,null,null,"α＝調整パラメータで、下記を参考し決定。"]
[null,null,null,null,null,"Albuera"]
[null,null,null,null,null," 1st Vistula Lancer",null,"morale=14, strength=12"]
[null,null,null,null,null," 2nd Hussar",null,"morale=15, strength=7"]
[null,null,null,null,null,"が英国大隊約1300名を５分間で損失させた。"]
[null,null,null,null,null,"10HEX移動には5分間必要（12km/hの速度で）。"]

{"sheet":"士気","index":5,"n_rows":6,"n_cols":13,"rows_kept":6,"cut":false,"hidden":false,"merged":[]}
[null,null,null,null,null,null,null,null,null,null,"作業領域"]
[null,null,null,null,null,"判定後は色が変わる",null,null,null,null,5,5,"データ数"]
[null,null,null,null,null,null,null,null,null,null,1,1,"部隊数"]
["フランス軍",null,null,null,null,"連合軍"]
["部隊名称","離脱大隊数","士気レベル","部隊モラル",null,"部隊名称",{"$f":"B5","v":"離脱大隊数"},"士気レベル","部隊モラル"]
["ポーランド軍",null,null,null,null,"オーストリア軍"]

{"sheet":"部隊モラル表","index":6,"n_rows":5,"n_cols":9,"rows_kept":5,"cut":false,"hidden":false,"merged":[]}
["フランス軍","ラシン用（自家製）",null,null,null,"連合軍"]
["部隊名称","離脱大隊数","士気レベル","部隊モラル",null,{"$f":"A2","v":"部隊名称"},{"$f":"B2","v":"離脱大隊数"},"士気レベル","部隊モラル"]
["ポーランド軍",3,1,-3,null,"オーストリア軍",5,1,-3]
["ポーランド軍",6,2,-6,null,"オーストリア軍",10,2,-6]
["ポーランド軍",9,3,-12,null,"オーストリア軍",14,3,-12]

{"sheet":"時刻変化","index":7,"n_rows":73,"n_cols":19,"rows_kept":73,"cut":false,"hidden":false,"merged":[]}
[null,"時","分","時間帯","天候",null,"現在時刻","時","分","時間帯","天候","天候文字","天候数値",null,"標準","albuera","Eylau","Ligny","Vauchamps"]
[{"$f":"B2*100+C2","v":0},0,0,"夜","晴",null,{"$f":"H2*100+I2","v":820},8,20,{"$f":"LOOKUP(G2,A2:A73,D2:D73)","v":"昼"},{"$f":"LOOKUP(G2,A2:A73,E2:E73)","v":"晴"},{"$f":"MID(K2,1,2)","v":"晴"},{"$f":"MID(K2,3,1)","v":""},null,"晴","晴","晴","晴","晴"]
[{"$f":"B3*100+C3","v":20},0,20,"夜","晴",null,null,null,null,null,null,null,null,null,"晴","晴","晴","晴","晴"]
[40,0,40,"夜","晴",null,null,null,null,null,null,null,null,null,"晴","晴","晴","晴","晴"]
[100,1,0,"夜","晴",null,null,null,null,null,null,null,null,null,"晴","晴","晴","晴","晴"]
[120,1,20,"夜","晴",null,null,null,null,null,null,null,null,null,"晴","晴","晴","晴","晴"]
[140,1,40,"夜","晴",null,null,null,null,null,null,null,null,null,"晴","晴","晴","晴","晴"]
[200,2,0,"夜","晴",null,null,null,null,null,null,null,null,null,"晴","晴","晴","晴","晴"]
[220,2,20,"夜","晴",null,null,null,null,null,null,null,null,null,"晴","晴","晴","晴","晴"]
[240,2,40,"夜","晴",null,null,null,null,null,null,null,null,null,"晴","晴","晴","晴","晴"]
[300,3,0,"夜","晴",null,null,null,null,null,null,null,null,null,"晴","晴","晴","晴","晴"]
[320,3,20,"夜","晴",null,null,null,null,null,null,null,null,null,"晴","晴","晴","晴","晴"]
[340,3,40,"夜","晴",null,null,null,null,null,null,null,null,null,"晴","晴","晴","晴","晴"]
[400,4,0,"夜","晴",null,null,null,null,null,null,null,null,null,"晴","晴","晴","晴","晴"]
[420,4,20,"夜","晴",null,null,null,null,null,null,null,null,null,"晴","晴","晴","晴","晴"]
[440,4,40,"夜","晴",null,null,null,null,null,null,null,null,null,"晴","晴","晴","晴","晴"]
[500,5,0,"日出前","晴",null,null,null,null,null,null,null,null,null,"晴","晴","晴","晴","晴"]
[520,5,20,"日出前","晴",null,null,null,null,null,null,null,null,null,"晴","晴","晴","晴","晴"]
[540,5,40,"日出前","晴",null,null,null,null,null,null,null,null,null,"晴","晴","晴","晴","晴"]
[600,6,0,"日出前","晴",null,null,null,null,null,null,null,null,null,"晴","晴","晴","晴","晴"]
[620,6,20,"昼","晴",null,null,null,null,null,null,null,null,null,"晴","晴","晴","晴","晴"]
[640,6,40,"昼","晴",null,null,null,null,null,null,null,null,null,"晴","晴","晴","晴","晴"]
[700,7,0,"昼","晴",null,null,null,null,null,null,null,null,null,"晴","晴","晴","晴","晴"]
[720,7,20,"昼","晴",null,null,null,null,null,null,null,null,null,"晴","晴","晴","晴","晴"]
[740,7,40,"昼","晴",null,null,null,null,null,null,null,null,null,"晴","晴","可変5","晴","晴"]
[800,8,0,"昼","晴",null,null,null,null,null,null,null,null,null,"晴","晴","可変5","晴","晴"]
[820,8,20,"昼","晴",null,null,null,null,null,null,null,null,null,"晴","晴","可変5","晴","晴"]
[840,8,40,"昼","晴",null,null,null,null,null,null,null,null,null,"晴","可変1","可変5","晴","晴"]
[900,9,0,"昼","晴",null,null,null,null,null,null,null,null,null,"晴","可変1","可変5","晴","可変7"]
[920,9,20,"昼","晴",null,null,null,null,null,null,null,null,null,"晴","可変1","可変5","晴","可変7"]
[940,9,40,"昼","晴",null,null,null,null,null,null,null,null,null,"晴","可変1","可変5","晴","可変7"]
[1000,10,0,"昼","晴",null,null,null,null,null,null,null,null,null,"晴","可変2","可変5","晴","可変7"]
[1020,10,20,"昼","晴",null,null,null,null,null,null,null,null,null,"晴","可変2","可変5","晴","可変7"]
[1040,10,40,"昼","晴",null,null,null,null,null,null,null,null,null,"晴","可変2","可変5","晴","可変7"]
[1100,11,0,"昼","晴",null,null,null,null,null,null,null,null,null,"晴","可変2","可変5","晴","可変7"]
[1120,11,20,"昼","晴",null,null,null,null,null,null,null,null,null,"晴","可変2","可変5","晴","可変8"]
[1140,11,40,"昼","晴",null,null,null,null,null,null,null,null,null,"晴","可変2","可変5","晴","可変8"]
[1200,12,0,"昼","晴",null,null,null,null,null,null,null,null,null,"晴","可変3","可変5","晴","可変8"]
[1220,12,20,"昼","晴",null,null,null,null,null,null,null,null,null,"晴","可変3","可変5","晴","可変8"]
[1240,12,40,"昼","晴",null,null,null,null,null,null,null,null,null,"晴","可変3","可変5","晴","可変8"]
[1300,13,0,"昼","晴",null,null,null,null,null,null,null,null,null,"晴","可変3","可変5","晴","可変8"]
[1320,13,20,"昼","晴",null,null,null,null,null,null,null,null,null,"晴","可変3","可変5","晴","可変8"]
[1340,13,40,"昼","晴",null,null,null,null,null,null,null,null,null,"晴","可変3","可変5","晴","可変8"]
[1400,14,0,"昼","晴",null,null,null,null,null,null,null,null,null,"晴","可変4","可変5","晴","可変8"]
[1420,14,20,"昼","晴",null,null,null,null,null,null,null,null,null,"晴","可変4","可変5","晴","可変8"]
[1440,14,40,"昼","晴",null,null,null,null,null,null,null,null,null,"晴","可変4","可変5","晴","可変8"]
[1500,15,0,"昼","晴",null,null,null,null,null,null,null,null,null,"晴","可変4","可変5","可変6","可変8"]
[1520,15,20,"昼","晴",null,null,null,null,null,null,null,null,null,"晴","可変4","可変5","可変6","可変8"]
[1540,15,40,"昼","晴",null,null,null,null,null,null,null,null,null,"晴","晴","可変5","可変6","可変8"]
[1600,16,0,"昼","晴",null,null,null,null,null,null,null,null,null,"晴","晴","可変5","可変6","晴"]
[1620,16,20,"昼","晴",null,null,null,null,null,null,null,null,null,"晴","晴","可変5","可変6","晴"]
[1640,16,40,"昼","晴",null,null,null,null,null,null,null,null,null,"晴","晴","可変5","可変6","晴"]
[1700,17,0,"昼","晴",null,null,null,null,null,null,null,null,null,"晴","晴","可変5","可変6","晴"]
[1720,17,20,"昼","晴",null,null,null,null,null,null,null,null,null,"晴","晴","可変5","可変6","晴"]
[1740,17,40,"昼","晴",null,null,null,null,null,null,null,null,null,"晴","晴","可変5","可変6","晴"]
[1800,18,0,"昼","晴",null,null,null,null,null,null,null,null,null,"晴","晴","可変5","可変6","晴"]
[1820,18,20,"昼","晴",null,null,null,null,null,null,null,null,null,"晴","晴","可変5","可変6","晴"]
[1840,18,40,"昼","晴",null,null,null,null,null,null,null,null,null,"晴","晴","可変5","可変6","晴"]
[1900,19,0,"昼","晴",null,null,null,null,null,null,null,null,null,"晴","晴","可変5","可変6","晴"]
[1920,19,20,"昼","晴",null,null,null,null,null,null,null,null,null,"晴","晴","可変5","可変6","晴"]
[1940,19,40,"日没後","晴",null,null,null,null,null,null,null,null,null,"晴","晴","可変5","可変6","晴"]
[2000,20,0,"日没後","晴",null,null,null,null,null,null,null,null,null,"晴","晴","可変5","可変6","晴"]
[2020,20,20,"日没後","晴",null,null,null,null,null,null,null,null,null,"晴","晴","晴","可変6","晴"]
[2040,20,40,"夜","晴",null,null,null,null,null,null,null,null,null,"晴","晴","晴","可変6","晴"]
[2100,21,0,"夜","晴",null,null,null,null,null,null,null,null,null,"晴","晴","晴","可変6","晴"]
[2120,21,20,"夜","晴",null,null,null,null,null,null,null,null,null,"晴","晴","晴","可変6","晴"]
[{"$f":"B67*100+C67","v":2140},21,40,"夜","晴",null,null,null,null,null,null,null,null,null,"晴","晴","晴","可変6","晴"]
[2200,22,0,"夜","晴",null,null,null,null,null,null,null,null,null,"晴","晴","晴","可変6","晴"]
[2220,22,20,"夜","晴",null,null,null,null,null,null,null,null,null,"晴","晴","晴","可変6","晴"]
[2240,22,40,"夜","晴",null,null,null,null,null,null,null,null,null,"晴","晴","晴","晴","晴"]
[2300,23,0,"夜","晴",null,null,null,null,null,null,null,null,null,"晴","晴","晴","晴","晴"]
[2320,23,20,"夜","晴",null,null,null,null,null,null,null,null,null,"晴","晴","晴","晴","晴"]
[2340,23,40,"夜","晴",null,null,null,null,null,null,null,null,null,"晴","晴","晴","晴","晴"]

{"sheet":"天候変化","index":8,"n_rows":67,"n_cols":17,"rows_kept":67,"cut":false,"hidden":false,"merged":[]}
[null,"賽の目min","天候",null,null,null,null,"対象ゲーム","天候結果","天候数値","乱数","検索キー",null,"歩兵","騎兵","砲兵"]
["可変1",11,"晴",{"$f":"VALUE(MID(B2,1,1))","v":1},{"$f":"VALUE(MID(B2,2,1))","v":1},{"$f":"(D2-1)*6+E2","v":1},{"$f":"F2+100*VALUE(MID(A2,3,1))","v":101},"Albuera",{"$f":"LOOKUP(L2,G2:G27,C2:C34)","v":{"$error":"#N/A"}},null,{"$f":"(ROUNDDOWN(RANDBETWEEN(100,699)/100,0)-1)*6+ROUNDDOWN(RANDBETWEEN(100,699)/100,0)","v":1},{"$f":"J2*100+K2","v":1},null,{"$f":"IF($J$2=7,N48,N59)","v":0},{"$f":"IF($J$2=7,O48,O59)","v":-7},-15]
["可変1",22,"小雨",{"$f":"VALUE(MID(B3,1,1))","v":2},{"$f":"VALUE(MID(B3,2,1))","v":2},8,{"$f":"F3+100*VALUE(MID(A3,3,1))","v":108},"Albuera","↑ *1*2"]
["可変1",51,"霧",5,1,25,125,"Albuera",null,"濃淡霧の視程","時刻（時）","LOSのmax",null,"*1 マクロが動作すると、再度乱数が発生する。"]
["可変1",62,"雨",6,2,32,132,"Albuera",null,"現在",{"$f":"時刻変化!H2","v":8},{"$f":"LOOKUP(K5,K11:K17,L11:L17)","v":3},null,"*2 その為、再検索した結果が上書されて、時間"]
["可変1",66,"激しい雨",6,6,{"$f":"(D6-1)*6+E6","v":36},136,"Albuera",null,"条件",0,99,null,"　シートの天候と違う表示になる。この内容は"]
["可変2",11,"晴",1,1,{"$f":"(D7-1)*6+E7","v":1},201,"Albuera",null,null,1,99,null,"　使われないので、問題はない。"]
["可変2",21,"小雨",2,1,7,207,"Albuera",null,null,2,99]
["可変2",34,"霧",3,4,16,216,"Albuera",null,null,3,99]
["可変2",51,"雨",5,1,25,225,"Albuera",null,null,4,99,null,"雪の補正"]
["可変2",65,"激しい雨",6,5,35,235,"Albuera",null,null,5,99,null,"前回値","乱数","補正値","天候結果"]
["可変3",11,"晴",1,1,1,301,"Albuera",null,null,6,99,null,1,{"$f":"ROUNDDOWN(RANDBETWEEN(100,699)/100,0)","v":6},1,"晴"]
["可変3",14,"小雨",1,4,4,304,"Albuera",null,null,7,{"$f":"ROUNDDOWN(RANDBETWEEN(100,699)/100,0)+1","v":5},"Auerstat",null,"*1"]
["可変3",22,"霧",2,2,8,308,"Albuera",null,null,8,{"$f":"ROUNDDOWN(RANDBETWEEN(100,699)/100,0)+2","v":3},"Auerstat"]
["可変3",34,"雨",3,4,16,316,"Albuera",null,null,9,{"$f":"ROUNDDOWN(RANDBETWEEN(100,699)/100,0)+3","v":8},"Auerstat"]
["可変3",45,"激しい雨",4,5,23,323,"Albuera",null,null,10,99]
["可変4",11,"晴",1,1,1,401,"Albuera",null,null,11,99]
["可変4",34,"小雨",3,4,16,416,"Albuera",null,null,12,99]
["可変4",51,"霧",5,1,25,425,"Albuera",null,null,13,99]
["可変4",64,"雨",6,4,34,434,"Albuera",null,null,14,99]
["可変4",66,"激しい雨",6,6,36,436,"Albuera",null,null,15,99]
["可変5",11,"晴",{"$f":"VALUE(MID(B22,1,1))","v":1},{"$f":"VALUE(MID(B22,2,1))","v":1},{"$f":"(D22-1)*6+E22","v":1},{"$f":"F22+100*VALUE(MID(A22,3,1))","v":501},"Eylau",null,null,16,99]
["可変5",31,"雪",3,1,13,513,"Eylau",null,null,17,99]
["可変5",61,"吹雪",6,1,31,531,"Eylau",null,null,18,99]
["可変6",11,"雷雨",{"$f":"VALUE(MID(B25,1,1))","v":1},{"$f":"VALUE(MID(B25,2,1))","v":1},{"$f":"(D25-1)*6+E25","v":1},{"$f":"F25+100*VALUE(MID(A25,3,1))","v":601},"Ligny",null,null,19,99]
["可変6",15,"晴",1,5,5,605,"Ligny",null,null,20,99]
["可変7",11,"泥濘",{"$f":"VALUE(MID(B27,1,1))","v":1},{"$f":"VALUE(MID(B27,2,1))","v":1},{"$f":"(D27-1)*6+E27","v":1},{"$f":"F27+100*VALUE(MID(A27,3,1))","v":701},"Vauchamps",null,null,21,99]
["可変7",66,"泥濘",6,6,36,736,"Vauchamps",null,null,22,99]
["可変8",11,"泥濘",1,1,1,801,"Vauchamps",null,null,23,99]
["可変8",66,"泥濘",6,6,36,836,"Vauchamps"]
["可変9",11,"要調整！",1,1,1,901,null,null,"雷雨の場所","乱数",{"$f":"(ROUNDDOWN(RANDBETWEEN(100,699)/100,0)-1)*6+ROUNDDOWN(RANDBETWEEN(100,699)/100,0)","v":3},"発生箇所",{"$f":"LOOKUP(L31,N33:N44,K33:K44)","v":"QB"}]
[null,null,null,null,null,null,null,null,null,"賽の目min","箇所"]
[null,null,null,null,null,null,null,null,null,11,"QB",{"$f":"VALUE(MID(J33,1,1))","v":1},{"$f":"VALUE(MID(J33,2,1))","v":1},{"$f":"(L33-1)*6+M33","v":1},"Ligny"]
[null,null,null,null,null,null,null,null,null,14,"NE",{"$f":"VALUE(MID(J34,1,1))","v":1},{"$f":"VALUE(MID(J34,2,1))","v":4},{"$f":"(L34-1)*6+M34","v":4},"Ligny"]
[null,null,null,null,null,null,null,null,null,23,"SE",2,3,9,"Ligny"]
[null,null,null,null,null,null,null,null,null,32,"SW",3,2,14,"Ligny"]
[null,null,null,null,null,null,null,null,null,41,"NW",4,1,19,"Ligny"]
[null,null,null,null,null,null,null,null,null,46,"QB+NW",4,6,24,"Ligny"]
[null,null,null,null,null,null,null,null,null,51,"NE+SE",5,1,25,"Ligny"]
[null,null,null,null,null,null,null,null,null,54,"SE+SW",5,4,28,"Ligny"]
[null,null,null,null,null,null,null,null,null,61,"SW+NW",6,1,31,"Ligny"]
[null,null,null,null,null,null,null,null,null,63,"SW+NW+QB",6,3,33,"Ligny"]
[null,null,null,null,null,null,null,null,null,64,"NW+NE",6,4,34,"Ligny"]
[null,null,null,null,null,null,null,null,null,66,"NW+NE+QB",6,6,36,"Ligny"]
[]
[null,null,null,null,null,null,null,null,null,"泥濘の移動低下1"]
[null,null,null,null,null,null,null,null,null,"Vauchamps 0900-1100"]
[null,null,null,null,null,null,null,null,null,"乱数",{"$f":"(ROUNDDOWN(RANDBETWEEN(100,699)/100,0)-1)*6+ROUNDDOWN(RANDBETWEEN(100,699)/100,0)","v":15},null,"該当",{"$f":"LOOKUP(K48,M50:M56,N50:N56)","v":-15},{"$f":"LOOKUP(K48,M50:M56,O50:O56)","v":-14},{"$f":"LOOKUP(K48,M50:M56,P50:P56)","v":-15}]
[null,null,null,null,null,null,null,null,null,"賽の目min",null,null,null,"歩兵","騎兵","砲兵"]
[null,null,null,null,null,null,null,null,null,11,{"$f":"VALUE(MID(J50,1,1))","v":1},{"$f":"VALUE(MID(J50,2,1))","v":1},{"$f":"(K50-1)*6+L50","v":1},0,0,0]
[null,null,null,null,null,null,null,null,null,21,2,1,{"$f":"(K51-1)*6+L51","v":7},0,-7,-15]
[null,null,null,null,null,null,null,null,null,31,3,1,13,-15,-14,-15]
[null,null,null,null,null,null,null,null,null,41,4,1,19,-15,-21,-30]
[null,null,null,null,null,null,null,null,null,51,5,1,25,-30,-28,-30]
[null,null,null,null,null,null,null,null,null,61,6,1,31,-30,-36,-50]
[null,null,null,null,null,null,null,null,null,66,6,6,36,-30,-36,-50]
[null,null,null,null,null,null,null,null,null,"泥濘の移動低下2"]
[null,null,null,null,null,null,null,null,null,"Vauchamps 1120-"]
[null,null,null,null,null,null,null,null,null,"乱数",{"$f":"(ROUNDDOWN(RANDBETWEEN(100,699)/100,0)-1)*6+ROUNDDOWN(RANDBETWEEN(100,699)/100,0)","v":4},null,"該当",{"$f":"LOOKUP(K59,M61:M67,N61:N67)","v":0},{"$f":"LOOKUP(K59,M61:M67,O61:O67)","v":-7},{"$f":"LOOKUP(K59,M61:M67,P61:P67)","v":-15}]
[null,null,null,null,null,null,null,null,null,"賽の目min",null,null,null,"歩兵","騎兵","砲兵"]
[null,null,null,null,null,null,null,null,null,11,{"$f":"VALUE(MID(J61,1,1))","v":1},{"$f":"VALUE(MID(J61,2,1))","v":1},{"$f":"(K61-1)*6+L61","v":1},0,-7,-15]
[null,null,null,null,null,null,null,null,null,21,2,1,7,-15,-14,-15]
[null,null,null,null,null,null,null,null,null,31,3,1,13,-15,-21,-30]
[null,null,null,null,null,null,null,null,null,41,4,1,19,-30,-28,-50]
[null,null,null,null,null,null,null,null,null,51,5,1,25,-30,-36,-60]
[null,null,null,null,null,null,null,null,null,61,6,1,31,-50,-43,-76]
[null,null,null,null,null,null,null,null,null,66,6,6,36,-50,-43,-76]

{"sheet":"天候","index":9,"n_rows":28,"n_cols":17,"rows_kept":28,"cut":false,"hidden":false,"merged":[]}
[null,"日出前","昼","日没後","夜",null,"晴","霧","小雨","雨","激しい雨","雪","吹雪","濃淡霧","雷雨","豪雨の後","泥濘"]
[null,1,2,3,4,null,1,2,3,4,5,6,7,8,9,10,11]
["LOSの最大HEX",3,99,3,2,null,99,4,10,6,1,6,1,89,5,99,99]
["散開隊形の射撃射程HEX",2,2,2,1,null,2,2,2,2,0,2,0,2,0,0,2]
["騎兵突撃",0,0,0,0,null,0,0,0,0,-99,0,-99,0,0,0,0]
["騎兵突撃のボーナス",5,5,5,0,null,5,0,5,0,0,0,0,0,0,0,0]
["歩兵射撃の可否　補正(%)",0,0,0,-33,null,0,0,-33,-50,-99,-50,-99,0,-50,-99,0]
["砲兵射撃の可否　補正(%)",-33,0,-33,-50,null,0,0,0,0,-99,0,-99,0,0,0,0]
["歩兵移動力補正(%)",0,0,0,-50,null,0,-10,-10,-33,-70,-40,-80,-10,-50,0,79]
["騎兵移動力補正(%)",0,0,0,-50,null,0,-20,-10,-33,-70,-40,-80,-20,-50,0,79]
["砲兵移動力補正(%)",0,0,0,-50,null,0,-15,-10,-33,-70,-40,-80,-15,-50,-50,79]
[null,null,null,null,null,"検討用"]
[null,null,null,null,null,"元の移動力",{"$f":"G1","v":"晴"},{"$f":"H1","v":"霧"},"小雨","雨","激しい雨","雪","吹雪","濃淡霧",{"$f":"O1","v":"雷雨"},"豪雨の後","泥濘"]
[{"$f":"時間!A7","v":"時間帯"},{"$f":"時間!A8","v":"昼"},{"$f":"IF(B14=B1,1,IF(B14=C1,2,IF(B14=D1,3,4)))","v":2},null,null,4,{"$f":"$F14+$F14*G$9/100","v":4},3.6,3.6,2.6799999999999997,1.2000000000000002,2.4,0.79999999999999982,3.6,2,4,7.16]
[{"$f":"時間!B7","v":"天候"},{"$f":"時間!B8","v":"晴"},{"$f":"INDEX(G1:Q2,2,MATCH(B15,G1:Q1,0))","v":1},null,null,6,6,5.4,5.4,4.0199999999999996,1.7999999999999998,3.6,1.2000000000000002,5.4,3,6,10.74]
[null,null,null,null,null,9,{"$f":"$F16+$F16*G$10/100","v":9},{"$f":"$F16+$F16*H$10/100","v":7.2},8.1,6.0299999999999994,2.7,5.4,1.7999999999999998,7.2,4.5,9,16.11]
[null,null,null,null,null,11,{"$f":"$F17+$F17*G$10/100","v":11},8.8000000000000007,9.9,7.37,3.3,6.6,2.1999999999999993,8.8000000000000007,5.5,11,19.689999999999998]
[null,null,null,null,null,15,15,12,13.5,10.050000000000001,4.5,9,3,12,7.5,15,26.85]
[null,{"$f":"A14","v":"時間帯"},{"$f":"A15","v":"天候"},"可変","比較","変換"]
[{"$f":"A3","v":"LOSの最大HEX"},{"$f":"HLOOKUP($C$14,$B$2:$E$11,2,TRUE)","v":99},{"$f":"HLOOKUP($C$15,$G$2:$Q$11,2,TRUE)","v":99},{"$f":"IF(C20=N3,天候変化!L5,C20)","v":99},{"$f":"IF(B20<D20,B20,D20)","v":99},{"$f":"IF(E20=99,\"無限\",E20)","v":"無限"}]
["散開隊形の射撃射程HEX",{"$f":"HLOOKUP($C$14,$B$2:$E$11,3,TRUE)","v":2},{"$f":"HLOOKUP($C$15,$G$2:$Q$11,3,TRUE)","v":2},{"$f":"C21","v":2},{"$f":"IF(B21<D21,B21,D21)","v":2},{"$f":"IF(E21=0,\"射撃不可\",E21)","v":2}]
["騎兵突撃",{"$f":"HLOOKUP($C$14,$B$2:$E$11,4,TRUE)","v":0},{"$f":"HLOOKUP($C$15,$G$2:$Q$11,4,TRUE)","v":0},{"$f":"C22","v":0},0,{"$f":"IF(E22=-99,\"禁止\",\"可能\")","v":"可能"}]
["騎兵突撃のボーナス",{"$f":"HLOOKUP($C$14,$B$2:$E$11,5,TRUE)","v":5},{"$f":"HLOOKUP($C$15,$G$2:$Q$11,5,TRUE)","v":5},5,5,{"$f":"IF(E23=0,\"なし\",\"移動力＋５\")","v":"移動力＋５"}]
["歩兵射撃の可否　補正(%)",{"$f":"HLOOKUP($C$14,$B$2:$E$11,6,TRUE)","v":0},{"$f":"HLOOKUP($C$15,$G$2:$Q$11,6,TRUE)","v":0},0,0,{"$f":"IF(E24<=-99,\"射撃不可\",E24)","v":0}]
["砲兵射撃の可否　補正(%)",{"$f":"HLOOKUP($C$14,$B$2:$E$11,7,TRUE)","v":0},{"$f":"HLOOKUP($C$15,$G$2:$Q$11,7,TRUE)","v":0},0,0,{"$f":"IF(E25<=-99,\"射撃不可\",E25)","v":0}]
["歩兵移動力補正(%)",{"$f":"HLOOKUP($C$14,$B$2:$E$11,8,TRUE)","v":0},{"$f":"HLOOKUP($C$15,$G$2:$Q$11,8,TRUE)","v":0},{"$f":"IF(C26=79,天候変化!N2,C26)","v":0},0,{"$f":"E26","v":0}]
["騎兵移動力補正(%)",{"$f":"HLOOKUP($C$14,$B$2:$E$11,9,TRUE)","v":0},{"$f":"HLOOKUP($C$15,$G$2:$Q$11,9,TRUE)","v":0},{"$f":"IF(C27=79,天候変化!O2,C27)","v":0},0,{"$f":"E27","v":0}]
["砲兵移動力補正(%)",{"$f":"HLOOKUP($C$14,$B$2:$E$11,10,TRUE)","v":0},{"$f":"HLOOKUP($C$15,$G$2:$Q$11,10,TRUE)","v":0},{"$f":"IF(C28=79,天候変化!P2,C28)","v":0},{"$f":"IF(B28<D28,B28,D28)","v":0},{"$f":"E28","v":0}]

{"sheet":"射撃結果表","index":10,"n_rows":37,"n_cols":16,"rows_kept":37,"cut":false,"hidden":false,"merged":[]}
[0,0,0,0,0,0,0,0,0,0,1,1,1,1,2,2]
[0,0,0,0,0,0,0,0,0,0,1,1,1,1,2,2]
[0,0,0,0,0,0,0,0,0,1,1,1,1,1,2,2]
[0,0,0,0,0,0,0,0,0,1,1,1,1,1,2,2]
[0,0,0,0,0,0,0,0,0,1,1,1,1,2,2,2]
[0,0,0,0,0,0,0,0,0,1,1,1,1,2,2,2]
[0,0,0,0,0,0,0,0,0,1,1,1,1,2,2,2]
[0,0,0,0,0,0,0,0,1,1,1,1,1,2,2,2]
[0,0,0,0,0,0,0,0,1,1,1,1,2,2,2,2]
[0,0,0,0,0,0,0,0,1,1,1,1,2,2,2,2]
[0,0,0,0,0,0,0,0,1,1,1,1,2,2,2,2]
[0,0,0,0,0,0,0,1,1,1,1,1,2,2,2,3]
[0,0,0,0,0,0,0,1,1,1,1,1,2,2,2,3]
[0,0,0,0,0,0,0,1,1,1,1,1,2,2,2,3]
[0,0,0,0,0,0,1,1,1,1,1,2,2,2,2,3]
[0,0,0,0,0,0,1,1,1,1,1,2,2,2,2,3]
[0,0,0,0,0,0,1,1,1,1,1,2,2,2,2,3]
[0,0,0,0,0,0,1,1,1,1,1,2,2,2,2,3]
[0,0,0,0,0,0,1,1,1,1,1,2,2,2,2,3]
[0,0,0,0,0,1,1,1,1,1,1,2,2,2,3,3]
[0,0,0,0,0,1,1,1,1,1,1,2,2,2,3,3]
[0,0,0,0,0,1,1,1,1,1,1,2,2,2,3,3]
[0,0,0,0,0,1,1,1,1,1,2,2,2,3,3,3]
[0,0,0,0,0,1,1,1,1,1,2,2,2,3,3,3]
[0,0,0,0,0,1,1,1,1,1,2,2,2,3,3,3]
[0,0,0,0,1,1,1,1,1,1,2,2,3,3,3,3]
[0,0,0,0,1,1,1,1,1,1,2,2,3,3,3,3]
[0,0,0,0,1,1,1,1,1,2,2,2,3,3,3,3]
[0,0,0,1,1,1,1,1,1,2,2,2,3,3,3,4]
[0,0,0,1,1,1,1,1,1,2,2,2,3,3,3,4]
[0,0,0,1,1,1,1,1,1,2,2,2,3,3,3,4]
[0,0,1,1,1,1,1,1,1,2,2,3,3,3,3,4]
[0,0,1,1,1,1,1,1,1,2,2,3,3,3,4,4]
[0,1,1,1,1,1,1,1,1,2,2,3,3,3,4,4]
[1,1,1,1,1,1,1,1,1,2,2,3,3,3,4,5]
[1,1,1,1,1,1,1,1,1,2,2,3,3,4,4,5]
["1/3","1/2.5","1/2","1/1.5","1/1","1.5/1","2/1","2.5/1","3/1","4/1","5/1","6/1","7/1","8/1","9/1","10/1"]

{"sheet":"白兵戦結果表","index":11,"n_rows":42,"n_cols":10,"rows_kept":42,"cut":false,"hidden":false,"merged":[]}
["AR","AD","AD","AD",null,null,null,"*2/1","3/2","DD"]
["AR","AD","AD",null,null,null,null,"1/2","DD","DD"]
["AR","AD",null,null,null,null,"*2/2","0/2","DD","DD"]
["AR","AD",null,null,null,null,"3/3","0/1*","DD","DD"]
["AD","AD",null,null,null,null,"2/4","1/1*","DD","DD"]
["AD",null,null,null,null,"0/0*","3/1","DD","DD","DD"]
["AD",null,null,null,null,"2/3","0/1*","DD","DD","DD"]
["AD",null,null,null,null,"0/2","DD","DD","DD","DD"]
["AD",null,null,null,"1/4","*2/0","DD","DD","DD","DD"]
["AD",null,null,null,"2/3","1/2","DD","DD","DD","DD"]
["AD",null,null,"0/3","*0/0","0/1","DD","DD","DD","DD"]
["AD",null,null,"1/2","1/1*","*2/3","DD","DD","DD","DD"]
["AD",null,null,"*2/1","2/3*","1/2*","DD","DD","DD","DD"]
["AD",null,null,null,"3/3","DD","DD","DD","DD","DD"]
["AD",null,"1/2","0/1*","0/1","DD","DD","DD","DD","DR"]
["AD",null,null,"1/0","1/0","DD","DD","DD","DD","DR"]
[null,null,"1/1","3/2","2/2*","DD","DD","DD","DD","DR"]
[null,null,"*2/0","1/1","DD","DD","DD","DD","DD","DR"]
[null,null,"0/1*","2/2*","DD","DD","DD","DD","DD","DR"]
[null,"*2/0","1/1","*1/2","DD","DD","DD","DD","DR","DR"]
[null,"2/1*","2/2*","*1/1","DD","DD","DD","DD","DR","DR"]
[null,"2/1","3/1","0/2*","DD","DD","DD","DD","DR","DR"]
[null,"*1/1","0/2","DD","DD","DD","DD","DD","DR","DR"]
[null,"1/2","2/1","DD","DD","DD","DD","DD","DR","DR"]
[null,"1/1","1/1*","DD","DD","DD","DD","DD","DR","DR"]
["*0/0","0/0*","*2/1","DD","DD","DD","DD","DD","DR","DR"]
["1/1","2/1","DD","DD","DD","DD","DD","DD","DR","DR"]
["1/2*","*1/2","DD","DD","DD","DD","DD","DD","DR","DR"]
["0/1","2/2","DD","DD","DD","DD","DD","DD","DR","DR"]
["1/0*",null,"DD","DD","DD","DD","DD","DR","DR","DR"]
["0/2","1/0*","DD","DD","DD","DD","DD","DR","DR","DR"]
["2/1*","DD","DD","DD","DD","DD","DR","DR","DR","DS"]
[null,"DD","DD","DD","DD","DD","DR","DR","DR","DS"]
["2/2","DD","DD","DD","DD","DD","DR","DR","DR","DS"]
["DD","DD","DD","DD","DD","DR","DR","DR","DR","DS"]
["DD","DD","DD","DD","DD","DR","DR","DR","DS","DS"]
["1/2","1/1","1.5/1","2/1","2.5/1","3/1","3.5/1","4/1","4.5/1","5/1"]
[]
[]
[]
["space","AD","AR","DD","DR","DS"]
["*","n","/","m","*"]