{"text_format":"1","workbook":"xlsx","n_sheets":31,"sheets":["時間","移動","射撃","白兵","方陣","追撃","士気","士気2","隊形","部隊別","部隊モラル表","方陣表","環境表","増援表","部隊別表","時刻変化","天候変化","天候","増援計画","増援計画2","部隊別増援","部隊別損失","射撃結果表","白兵戦結果表","攻撃係数","突撃補正","戦力補正","白兵補正","補給補正2","隊形補正","超有能指揮官"],"not_rendered":{"charts":0,"images":4,"macros":1,"external_links":0,"defined_names":0,"comments":0,"pivot_tables":0},"unopened":[],"bounds":{"document_bytes":16777216,"sheet_cells":100000,"rows_first":2000,"rows_last":500,"rows_between":2000,"halvings":0,"cell_chars":16384,"cell_head_chars":4096},"cells_cut":0,"cells_raw":0,"read":"whole","date_system":"1900"}

{"sheet":"時間","index":0,"n_rows":14,"n_cols":12,"rows_kept":14,"cut":false,"hidden":false,"merged":[[1,1,1,3],[2,1,2,3],[3,1,3,3]]}
[null,"11:00","12:00","1:00",null,null,null,"フランス軍","連合軍",null,{"$f":"天候!A20","v":"LOSの最大HEX"},{"$f":"天候!F20","v":"無限"}]
["10:00",":00",null,null,"2:00",null,"指揮",null,null,null,{"$f":"天候!A21","v":"散開隊形の射撃射程HEX"},{"$f":"天候!F21","v":2}]
["9:00",":20",null,null,"3:00",null,"騎兵突撃",null,null,null,{"$f":"天候!A22","v":"騎兵突撃"},{"$f":"天候!F22","v":"可能"}]
["8:00",":40",null,null,"4:00",null,"移動",null,null,null,{"$f":"天候!A23","v":"騎兵突撃のボーナス"},{"$f":"天候!F23","v":"移動力＋５"}]
[null,"7:00","6:00","5:00",null,null,"敵軍の防御射撃",null,null,null,{"$f":"天候!A24","v":"歩兵射撃の可否　補正(%)"},{"$f":"天候!F24","v":0}]
["シート保護中",null,null,"午後1時は13と入力",null,null,"自軍の攻勢射撃",null,null,null,{"$f":"天候!A25","v":"砲兵射撃の可否　補正(%)"},{"$f":"天候!F25","v":0}]
["時間帯","天候","場所","開始時","開始分",null,"白兵戦",null,null,null,{"$f":"天候!A26","v":"歩兵移動力補正(%)"},{"$f":"天候!F26","v":0}]
["昼","晴",{"$f":"IF(B8=\"雷雨\",天候変化!N31,\"\")","v":""},9,0,null,"回復",null,null,null,{"$f":"天候!A27","v":"騎兵移動力補正(%)"},{"$f":"天候!F27","v":0}]
[null,null,null,null,null,null,null,null,null,null,{"$f":"天候!A28","v":"砲兵移動力補正(%)"},{"$f":"天候!F28","v":0}]
[]
[]
[]
["フランス軍増援"]
["連合軍増援"]

{"sheet":"移動","index":1,"n_rows":19,"n_cols":7,"rows_kept":19,"cut":false,"hidden":false,"merged":[]}
[null,"移動力",null,null,null,"移動力"]
[null,"印刷値","補正後",null,null,"印刷値","補正後"]
["歩兵",4,{"$f":"B3*(100+天候!E$26)/100","v":4},null,"砲兵",4,{"$f":"F3*(100+天候!E$28)/100","v":4}]
[null,5,{"$f":"B4*(100+天候!E$26)/100","v":5},null,null,5,{"$f":"F4*(100+天候!E$28)/100","v":5}]
[null,6,{"$f":"B5*(100+天候!E$26)/100","v":6},null,null,6,{"$f":"F5*(100+天候!E$28)/100","v":6}]
[null,7,{"$f":"B6*(100+天候!E$26)/100","v":7},null,null,7,{"$f":"F6*(100+天候!E$28)/100","v":7}]
[null,8,{"$f":"B7*(100+天候!E$26)/100","v":8},null,null,8,{"$f":"F7*(100+天候!E$28)/100","v":8}]
[null,9,{"$f":"B8*(100+天候!E$26)/100","v":9},null,null,9,{"$f":"F8*(100+天候!E$28)/100","v":9}]
[null,null,null,null,null,10,{"$f":"F9*(100+天候!E$28)/100","v":10}]
["騎兵",7,{"$f":"B10*(100+天候!E$27)/100","v":7},null,null,11,{"$f":"F10*(100+天候!E$28)/100","v":11}]
[null,8,{"$f":"B11*(100+天候!E$27)/100","v":8},null,null,12,{"$f":"F11*(100+天候!E$28)/100","v":12}]
[null,9,{"$f":"B12*(100+天候!E$27)/100","v":9}]
[null,10,{"$f":"B13*(100+天候!E$27)/100","v":10}]
[null,11,{"$f":"B14*(100+天候!E$27)/100","v":11}]
[null,12,{"$f":"B15*(100+天候!E$27)/100","v":12}]
[null,13,{"$f":"B16*(100+天候!E$27)/100","v":13}]
[null,14,{"$f":"B17*(100+天候!E$27)/100","v":14}]
[null,15,{"$f":"B18*(100+天候!E$27)/100","v":15}]
[null,16,{"$f":"B19*(100+天候!E$27)/100","v":16}]

{"sheet":"射撃","index":2,"n_rows":26,"n_cols":8,"rows_kept":26,"cut":false,"hidden":false,"merged":[[14,1,14,2],[21,1,21,2],[23,1,23,2],[26,0,33,3]]}
[null,"目標","特殊補正","備考",null,"計算用作業領域"]
["地形防御値",23,null,"特殊補正欄：歩兵射撃で目標が胸当てを付けている胸甲騎兵、カラビニエ場合に1、それ以外は空白",null,{"$f":"IF(C4<>1,0,ROUNDUP((B3-2)*4.5,0))","v":5},{"$f":"IF(C2<>1,0,6)","v":0},"左：砲兵目標の密集補正、右：胸当て補正"]
["目標戦力数",3,null,"特殊補正欄：指揮官が超有能な指揮官なら下表の値を入力、それ以外は空白",null,{"$f":"IF(B3<10,0,B3-9)","v":0},0,"左：歩兵・騎兵の密集目標補正、右：超有能指揮官の補正"]
["隣接補正",null,1,"目標欄：砲兵の目標が隣接なら1、それ以外は空白。特殊補正欄：砲兵が目標の場合に１、それ以外は空白。",null,"補正後＝",1.5099999904632568,"散弾射撃時の射撃比"]
[]
[null,"射撃側１","射撃側２","単独か大砲の場合は射撃側２の射撃値と戦力数を０か空白"]
["射撃値",12,0,"縦隊、一般隊形、大隊密集、師団密集、混乱または砲兵の場合"]
["戦力数",0,0,"横隊、散開隊形、方陣の場合"]
["掛算係数",1,1,"上記隊形のチャートの値を参照、上記以外は１"]
["割算係数",1,1,"方陣は３、混乱は２、その他、何もなければ１",null,{"$f":"IF(B10<>0,(B7+B8*B9)/B10,0)","v":12},{"$f":"IF(C10<>0,(C7+C8*C9)/C10,0)","v":0},"個別射撃力"]
["指揮官修正（モラル値）",null,null,"一緒なら印刷値、隣接HEXに居れば印刷値÷２（切捨て）",null,{"$f":"ROUNDDOWN(B12/10,0)*6+(B12-ROUNDDOWN(B12/10,0)*10)-B14-B11-F13","v":16},{"$f":"ROUNDDOWN(C12/10,0)*6+(C12-ROUNDDOWN(C12/10,0)*10)-C14-C11-G13","v":12},"個別モラル"]
["ユニットモラル値",24,16,"モラル補正しない場合は0か空白",null,{"$f":"(F11*F10+G11*G10)/(F10+G10)","v":16},null,"比例配分によるモラル合計"]
["50%以上戦力損失",null,null,"損失ありなら１、その他は０か空白",null,{"$f":"IF(B13=1,-6,0)","v":0},{"$f":"IF(C13=1,-6,0)","v":0},"50%以上戦力損失によるモラル補正"]
["部隊モラル修正",null,null,"軍団・師団・旅団などの管理単位毎の修正値（マイナス入力）",null,6.5277777777777796E-2,8.5414594949508316E-2,"補給失敗率（左）と乱数（右）"]
["英国ライフル中隊修正",null,null,"射撃側に英国ライフル中隊が居る場合は1、居ない場合は空白",null,"セル色＝",10086143,"(注)マクロが動作すると、再度乱数が発生して上書される。"]
["大砲の種類（左）と国種別（右）",4,1,"射撃速度の反映を行う場合は、下記の数値と下表の国種別を入力。それ以外は空白",null,"乱数２＝",{"$f":"士気2!J39","v":20},"：射撃結果判定用（１〜３６）"]
[null,null,null,"1:12pdr, 2:9pdr, 3:8pdr, 4:6pdr, 5:6pdr騎馬, 6:4pdr, 7:3pdr",null,{"$f":"1+((天候!E24)/100)","v":1},{"$f":"1+((天候!E25)/100)","v":1},"歩兵と砲兵の天候補正値"]
["射撃側の兵科","歩兵","砲兵",null,null,{"$f":"ROUNDDOWN((18-$F$12)/3,0)+$F$3-G2","v":0},{"$f":"ROUNDDOWN((15-$F$12)*2/3,0)+F2+F3+G3","v":5},"モラルと密集目標によるダイス修正値"]
["射撃比",{"$f":"($F$10+$G$10)*F17/$B$2","v":0.52173913043478259},{"$f":"($F$10+$G$10)*G17/$B$2","v":0.52173913043478259},"時間帯・天候による補正",null,"乱数４＝",{"$f":"士気2!J41","v":5},"：死傷種別用（１〜５）"]
["ダイス修正値",{"$f":"IF($B$12<>0,F18,$F$3)","v":0},{"$f":"IF($B$12<>0,G18,$F$3)","v":5},null,null,"乱数３＝",{"$f":"士気2!J40","v":3},"：脚負傷用（２〜１２）"]
["射撃による損失",0,1,"判定後は色が変わる",null,"乱数１＝",{"$f":"士気2!J38","v":2},"：腕負傷用（１〜６）"]
["指揮官の死傷","なし",null,null,null,"乱数５＝",{"$f":"士気2!J42","v":31},"：射撃結果判定用２回目（１〜３６）"]
["射撃による損失２回目","－","－","軽い大砲の２回目の射撃用",null,"乱数６＝",{"$f":"士気2!J43","v":0.79803126460281415},"：０〜１の乱数"]
["指揮官の死傷２回目","なし",null,"なお、大砲は１ヶ中隊毎に判定する。（２ヶ以上は対応していない）",null,"乱数７＝",{"$f":"士気2!J44","v":5},"：死傷種別用２回目（１〜５）"]
[null,null,null,null,null,"乱数８＝",{"$f":"士気2!J45","v":4},"：腕負傷用２回目（１〜６）"]
[null,null,null,null,null,"乱数９＝",{"$f":"士気2!J46","v":8},"：脚負傷用２回目（２〜１２）"]

{"sheet":"白兵","index":3,"n_rows":23,"n_cols":13,"rows_kept":23,"cut":false,"hidden":false,"merged":[[22,1,22,2],[22,3,22,4],[0,5,2,5],[20,1,20,2],[20,3,20,4],[21,1,21,2],[21,3,21,4]]}
[null,"攻撃側１","攻撃側２","防御側１","防御側２","1:縦隊、2:横隊、3:散開隊形、4:一般隊形、5:行軍隊形、\n6:方陣、7:大隊密集、8:師団密集、9:牽引隊形、\n10:展開隊形、11:混乱、12:潰走",null,"計算用作業領域"]
["白兵戦値",15,null,14]
["初期戦力数",5,null,6,null,null,null,"乱数１＝",{"$f":"士気2!J38","v":2},"：死傷種別用（１〜６）"]
["参加戦力数",5,null,5,null,"単独の場合は攻撃側２、防御側２の現在戦力数を０か空白",null,"乱数２＝",{"$f":"士気2!J39","v":20},"：白兵戦結果判定用（１〜３６）"]
["現在戦力数",null,null,null,null,"ワイン畑など参加戦力数に制限がある場合に現在の戦力を入力。制限がない場合は空白。",null,{"$f":"IF(B5=\"\",B4,B5)","v":5},{"$f":"IF(C5=\"\",C4,C5)","v":0},5,0,"参加戦力のモラル補正"]
["兵科",2,null,1,null,"歩兵は1、　騎兵は2、　砲兵は3",null,{"$f":"IF(B3/2<H5,0,-6)","v":0},{"$f":"IF(C3/2<I5,0,-6)","v":-6},0,-6,"50%損失判定"]
["隊形",1,null,1,null,"上記の種別参照",null,{"$f":"ROUNDDOWN(B15/10,0)*6+(B15-ROUNDDOWN(B15/10,0)*10)-H6-B16-B14*3","v":19},{"$f":"ROUNDDOWN(C15/10,0)*6+(C15-ROUNDDOWN(C15/10,0)*10)-I6-C16-C14*3","v":6},{"$f":"ROUNDDOWN(D15/10,0)*6+(D15-ROUNDDOWN(D15/10,0)*10)-J6-D16-D14*3","v":10},{"$f":"ROUNDDOWN(E15/10,0)*6+(E15-ROUNDDOWN(E15/10,0)*10)-K6-E16-E14*3","v":6},"個別モラル"]
["騎兵の疲労状態",1,null,null,null,"通常は1、　疲労は2、　損耗は3、　騎兵以外は空白",null,null,{"$f":"(H7*B4+I7*C4)/(B4+C4)","v":19},null,{"$f":"(J7*D4+K7*E4)/(D4+E4)","v":10},"比例配分によるモラル合計"]
["防御側から見た攻撃方向",null,null,null,null,"側面は1、　背面は2、　正面は空白（防御側が方陣なら自動的に空白）",null,{"$f":"ROUNDDOWN((K8-I8)/3,0)","v":-3},null,null,null,"モラルによるダイス補正"]
["攻撃を緩和する地形",null,null,null,null,"小川を渡る攻撃なら1、　その他は空白",null,{"$f":"IF(B6=2,IF(B12=3,ROUNDUP(B13*B4/B3,0),0),0)","v":0},{"$f":"IF(C6=2,IF(C12=3,ROUNDUP(C13*C4/C3,0),0),0)","v":0},{"$f":"IF(D6=2,IF(D12=3,ROUNDUP(D13*D4/D3,0),0),0)","v":0},{"$f":"IF(E6=2,IF(E12=3,ROUNDUP(E13*E4/E3,0),0),0)","v":0},null,"槍ボーナス減少"]
["騎兵突撃",null,null,null,null,"騎兵突撃なら1、　その他は空白",null,{"$f":"IF(B7=2,H10*2,H10)","v":0},{"$f":"IF(C7=2,I10*2,I10)","v":0},{"$f":"IF(D7=2,J10*2,J10)","v":0},{"$f":"IF(E7=2,K10*2,K10)","v":0},null,"横隊補正"]
["騎兵種別",4,null,null,null,"胸甲騎兵、カラビニエなら1、その他重騎兵なら4、　軽騎兵なら2、　槍騎兵なら3、　その他は空白",null,{"$f":"IF(B3<>\"\",B2*B4/B3+H11,0)","v":15},{"$f":"IF(C3<>\"\",C2*C4/C3+I11,0)","v":0},11.666666666666666,0,{"$f":"(H12+I12)/(J12+K12)","v":1.2857142857142858},"基本"]
["槍ボーナス",null,null,null,null,"槍騎兵以外は空白",null,15,0,11.666666984558105,0,1.2857142506813526,"隊形補正"]
["指揮官修正（白兵戦値）",null,null,null,null,"一緒なら印刷値、隣接HEXに居れば印刷値÷２（切捨て）",null,15,0,11.666666984558105,0,1.2857142506813526,"疲労補正"]
["ユニットモラル値",31,null,24,null,"モラル補正しない場合は0か空白",null,15,0,11.666666984558105,0,1.2857142506813526,"突撃補正"]
["部隊モラル修正",null,null,6,null,"軍団・師団・旅団などの管理単位毎の修正値（マイナス入力）",null,15,0,{"$f":"J15","v":11.666666984558105},{"$f":"K15","v":0},1.2857142506813526,"地形補正"]
[null,null,null,null,null,null,null,15,0,11.666666984558105,0,1.2857142506813526,"方陣補正"]
[null,null,null,null,null,null,null,15,0,11.666666984558105,0,1.2857142506813526,"攻撃方向補正"]
["戦力比",1.2857142686843872,null,null,null,null,null,15,0,11.666666984558105,0,1.2857142506813526,"重騎兵補正"]
["ダイス修正値",-3]
[null,"攻撃側",null,"防御側"]
["白兵戦結果",0,null,0,null,"判定後は色が変わる"]
["指揮官の死傷"]

{"sheet":"方陣","index":4,"n_rows":19,"n_cols":17,"rows_kept":19,"cut":false,"hidden":false,"merged":[]}
[null,null,null,null,null,null,null,null,null,null,null,"計算領域"]
[null,null,null,null,null,"判定後は色が変わる"]
[]
[]
["部隊名称","フランス軍",null,"ロシア軍"]
["隊形",null,null,1,null,null,null,"縦隊なら1、　横隊なら2、　判定不要なら空白を入力",null,null,null,1,2,1,2,2,1]
["距離(HEX)",null,null,2,null,null,null,"騎兵までの距離を入力",null,null,null,4,3,2,1,4,1]
["歩兵種別",null,null,null,null,null,null,"下段の表に該当する場合は数値を入力、なければ空白",null,null,null,3,-6,3,-6,-2,2]
["騎兵種別",null,null,null,null,null,null,"軽騎兵なら1、　槍騎兵なら2を入力、それ以外は空白",null,null,null,3,0,3,-3,6,9]
["指揮官",null,null,null,null,null,null,"指揮官が居る場合は1、　居ない場合は空白",null,null,null,-6,-6,-12,-9,0,-4]
["士気レベル",null,null,1,null,null,null,"所属する部隊の士気レベルを0〜3で入力",null,null,null,9,-3,3,0,3,8]
["判定結果",null,null,"混乱",null,null,null,null,null,null,null,26,10,15,28,9,30]
[null,null,null,null,null,null,null,null,null,null,null,52,24,33,54,23,56]
["歩兵種別","フランス軍",null,"ロシア軍"]
[1,"軽歩兵",null,"軽歩兵"]
[2,"同盟兵",null,"擲弾兵"]
[3,"擲弾兵",null,"親衛隊"]
[4,"親衛隊"]
[5]

{"sheet":"追撃","index":5,"n_rows":25,"n_cols":8,"rows_kept":25,"cut":false,"hidden":false,"merged":[]}
[null,"騎兵１","騎兵２",null,null,"計算用作業領域"]
["戦力数",10,null,"単独の場合は騎兵２の戦力数を０か空白",null,{"$f":"(0.75*(F8*B2*F3+G8*C2*G3))","v":0.6804}]
["モラル値",26,null,null,null,{"$f":"IF(B7>10,10,B7)","v":7},{"$f":"IF(C7>10,10,C7)","v":0},"移動力補正（１０以下）"]
["50%以上戦力損失",null,null,"損失ありなら１、その他は０",null,{"$f":"IF(B4=1,-6,0)","v":0},{"$f":"IF(C4=1,-6,0)","v":0},"50%以上戦力損失によるモラル補正"]
["指揮官修正（騎兵値）",null,null,null,null,"乱数３＝",{"$f":"士気2!J40","v":3},"：サーベル命中用（２〜１２）"]
["特別ボーナス",null,null,"ヴィストラ槍騎兵は１２、ポーランド槍騎兵は６、その他は０",null,{"$f":"G5","v":3},{"$f":"F6","v":3},"２つダイス値の合計"]
["移動力の残数",7,null,"突撃時は５加算（但し、MAX10)",null,{"$f":"ROUNDDOWN(B3/10,0)*6+(B3-ROUNDDOWN(B3/10,0)*10)","v":18},{"$f":"ROUNDDOWN(C3/10,0)*6+(C3-ROUNDDOWN(C3/10,0)*10)","v":0},"個別モラル"]
["追撃戦果(step数）",1,null,"判定後は色が変わる",null,{"$f":"(F6+(18-F7+F4)/3+B5+B6)/100*$F9","v":1.2959999999999999E-2},{"$f":"(G6+(18-G7+G4)/3+C5+C6)/100*$F9","v":3.8879999999999998E-2},"Hitする確率"]
[null,null,null,null,null,0.432,null,"調整パラメータ"]
[]
[]
[null,null,null,null,null,"騎兵の速度を約12km/hとして、1HEX(100m)を通過する時間は30秒。"]
["支援ツールで判定しない場合に使う賽の目",null,null,null,null,"１０分間（１ターンの１／２で自軍の割合）の平均で考えて、30秒でサーベルを振れる回数は、約１〜２回。"]
["サイコロ１ヶ用（１〜６）",6,null,null,null,"Hitする確率をＮとして、１．５×Ｎが１人１ＨＥＸでの成果。"]
["サイコロ２ヶ用（１１〜６６）",16,null,null,null,"騎兵は歩兵に比べて1/2の人数で１戦力なので、１．５Ｎ×戦力数÷２が１HEX当たり歩兵に与える損失。"]
[null,null,null,null,null,"移動できるＨＥＸ数を掛けて０．７５Ｎ×戦力数×移動力残数が歩兵に与える合計損失。"]
[null,null,null,null,null,"Hitする確率をＮは、ダイスの目、モラル値、指揮官修正、特別ボーナスを考えて、以下とする。"]
[null,null,null,null,null,"Ｎ＝（ダイスの目＋（１８ーモラル値）÷３＋指揮官修正＋特別ボーナス）÷１００×α"]
[]
[null,null,null,null,null,"α＝調整パラメータで、下記を参考し決定。"]
[null,null,null,null,null,"Albuera"]
[null,null,null,null,null," 1st Vistula Lancer",null,"morale=14, strength=12"]
[null,null,null,null,null," 2nd Hussar",null,"morale=15, strength=7"]
[null,null,null,null,null,"が英国大隊約1300名を５分間で損失させた。"]
[null,null,null,null,null,"10HEX移動には5分間必要（12km/hの速度で）。"]

{"sheet":"士気","index":6,"n_rows":8,"n_cols":13,"rows_kept":8,"cut":false,"hidden":false,"merged":[]}
[null,null,null,null,null,null,null,null,null,null,"作業領域"]
[null,null,null,null,null,"判定後は色が変わる",null,null,null,null,11,5,"データ数"]
[null,null,null,null,null,null,null,null,null,null,3,1,"部隊数"]
["フランス軍",null,null,null,null,"連合軍"]
["部隊名称","離脱大隊数","士気レベル","部隊モラル",null,"部隊名称",{"$f":"B5","v":"離脱大隊数"},"士気レベル","部隊モラル"]
["Legrand師団",null,0,0,null,"ロシア軍",12,3,-8]
["Oudinoｔ師団",null,0,0]
["Suchet師団",null,0,0]

{"sheet":"士気2","index":7,"n_rows":47,"n_cols":12,"rows_kept":47,"cut":false,"hidden":false,"merged":[[19,3,19,5],[0,3,0,5],[1,6,3,6]]}
[null,null,"現在フェーズ","騎兵突撃",null,null,null,null,"計算用作業領域",null,1,"フェーズ番号"]
[null,null,"兵科","歩兵","騎兵","砲兵","1:縦隊、2:横隊、3:散開隊形、4:一般隊形、5:行軍隊形、\n6:方陣、7:大隊密集、8:師団密集、9:牽引隊形、\n10:展開隊形、11:混乱、12:潰走",null,null,null,1,"軍の番号"]
["全てのフェーズ共通"]
[null,"基本補正"]
[null,null,"隊形",null,1,null,"上記の種別参照。",null,0,13,0,"基本修正最終"]
[null,null,"ユニットモラル値",null,21,null,"印刷値（26ならそのまま入力）",null,0,13,0]
[null,null,"50%以上戦力損失",null,null,null,"損失ありなら１、その他は空白",null,0,0,0]
[null,null,"指揮官修正（モラル値）",null,null,null,"一緒なら印刷値、隣接HEXに居れば印刷値÷２（切捨て）",null,0,13,0]
[null,null,"部隊モラル修正",null,null,null,"軍団・師団・旅団などの管理単位毎の修正値（マイナス入力）",null,0,13,0]
[null,"特殊ルールの補正",null,null,null,null,"全てのフェーズに適用する特殊補正（Vauchampsの奇襲表などの補正）",null,0,13,0]
["指揮フェーズ以外共通"]
[null,"騎兵と他の兵科との混在補正",null,null,null,null,"（注）この判定をしない場合には、判定対象の兵科を全て空白にする"]
[null,null,"判定対象",null,null,null,"判定する兵科と騎兵に1、それ以外は空白"]
[null,"状態・国籍の混在補正",null,null,null,null,"（注）混在（通過を含む）がなければ下記の段は全て空白"]
[null,null,"混在相手の部隊が混乱状態",null,null,null,"該当する場合に1、その他は空白。判定する部隊が通常状態の場合のみ。"]
[null,null,"混在相手の部隊が潰走状態",null,null,null,"判定する部隊が通常か混乱の場合のみ。"]
[null,null,"混在相手の国籍が違う"]
["騎兵突撃、白兵戦フェーズ特有",null,null,null,null,null,"（注）騎兵突撃では、突撃を受ける歩兵・砲兵の場合に入力する。"]
[null,"共通",null,null,null,null,"　　　騎兵の場合は何も入力しない（補正は行わない）。"]
[null,null,"判定する側",null,null,null,"攻撃側は1、　防御側は2、　その他（判定しない時）は空白",null,0,null,null,"判定する側"]
[null,null,"攻撃側戦力",null,null,null,"（注）砲兵は攻撃側に入力できない（自動的に空白）",null,null,null,null,"戦力比補正値"]
[null,null,"防御側戦力",null,null,null,"攻撃側、防御側とも参加する兵科の欄に戦力を入力",null,null,null,null,"戦力比補正後"]
[null,"騎兵突撃フェーズ特有（突撃を受ける側の判定）",null,null,null,null,"（注）歩兵・砲兵の場合のみ。両方の場合は歩兵欄のみに入力する。"]
[null,null,"突撃を受ける方向",null,null,null,"1:側面、　2:背面、　空白：正面（方陣は自動的に正面扱い）"]
[null,null,"小川を渡る突撃",null,null,null,"騎兵が小川を渡る突撃なら1、それ例外は空白"]
[null,null,"騎兵の種類",null,null,null,"1:槍騎兵、　2:重騎兵、　空白：左記以外"]
[null,"白兵戦フェーズ固有",null,null,null,null,"判定する側の兵科のみ入力"]
[null,null,"強襲を受ける方向",null,null,null,"防御側から見た方向で、1:側面、　2:背面、　空白：正面（方陣は正面扱い）"]
[null,null,"障害地形をまたぐ強襲",null,null,null,"登坂なら1、小川なら2、両方なら3、それ例外は空白"]
[null,null,"防御側の隊形",null,null,null,"攻撃側の場合のみ入力（上記の種別参照）　"]
[null,null,"射撃により損出した戦力",null,null,null,"攻撃側の場合のみ入力"]
["特定フェーズに追加",null,null,null,null,null,"騎兵突撃、移動、防御射撃、白兵戦のフェーズで追加"]
[null,"砲兵への白兵戦判定用",null,null,null,null,"（注）歩兵・騎兵の場合のみ"]
[null,null,"砲兵の短距離射撃力",null,12,null,"目標とする砲兵の射撃力を入力",null,null,19]
[null,null,"射撃により損出した戦力",null,null,null,null,null,null,19]
[null,null,"砲兵の指揮官（指揮範囲内）",null,2,null,"指揮官が超有能な指揮官なら下表の値を入力、それ以外は空白",null,null,14]
[null,null,null,null,null,null,null,null,null,1]
[null,null,null,null,null,null,null,null,"乱数１＝",2,"：サイコロ１ヶ用（１〜６）"]
[null,null,null,"歩兵","騎兵","砲兵",null,null,"乱数２＝",20,"：サイコロ２ヶ用（１〜３６）"]
[null,null,"士気判定結果",null,"失敗",null,"判定後は色が変わる",null,"乱数３＝",3,"：サイコロ２ヶ加算用（２〜１２）"]
[null,null,null,null,null,null,null,null,"乱数４＝",5,"：サイコロ１ヶ用（１〜５）"]
[null,null,null,null,null,null,null,null,"乱数５＝",31,"：サイコロ２ヶ用２回目（１〜３６）"]
[null,null,null,null,null,null,null,null,"乱数６＝",0.79803126460281415,"：０〜１の乱数"]
[null,null,null,null,null,null,null,null,"乱数７＝",5,"：サイコロ１ヶ用２回目（１〜５）"]
[null,null,null,null,null,null,null,null,"乱数８＝",4,"：サイコロ１ヶ用２回目（１〜６）"]
[null,null,null,null,null,null,null,null,"乱数９＝",8,"：サイコロ２ヶ加算用２回目（２〜１２）"]
[null,null,null,null,null,null,null,null,"乱数１０＝",0.68876753444855932,"：０〜１の乱数"]

{"sheet":"隊形","index":8,"n_rows":22,"n_cols":24,"rows_kept":22,"cut":false,"hidden":false,"merged":[]}
[null,null,null,null,null,null,null,"指揮官修正の入力値",null,null,null,null,null,"計算領域"]
[null,null,null,null,null,"判定後は色が変わる",null,"　　　同じHEXに居る場合は、砲兵ボーナス値（最大で１８）"]
[null,null,null,null,null,null,null,"　　　隣接HEXに居る場合は、砲兵ボーナス値÷２（切り捨て）",null,null,null,null,null,25,"：乱数"]
[null,null,null,null,null,null,null,"　　　指揮官が居ない場合は、空白"]
["種別",2,5]
["指揮官修正"]
["種別名","フランスNap","ロシア基本",null,null,null,null,null,null,null,null,null,null,{"$f":"B7","v":"フランスNap"},{"$f":"C7","v":"ロシア基本"},0,0,0,0,0,0,0,0,0]
["12pdr"]
["9pdr"]
["8pdr"]
["6pdr"]
["6pdr（騎馬）"]
["4pdr"]
["3pdr"]
[]
["No","種別",{"$f":"A16","v":"No"},"種別","No","種別","No","種別",null,"各種別に含まれる国"]
[1,"フランス基本",6,"ロシア近衛",11,"フランス型１",16,"イギリス近衛隊","フランス型１","フランス型２","オーストリア型１","オーストリア型２"]
[2,"フランスNap",7,"旧プロシア基本",12,"フランス型２",17,"ポルトガル","ポーランド","イタリア","バーデン","デンマーク"]
[3,"フランス親衛隊",8,"旧プロシア近衛",13,"オーストリア型１",18,"スペイン",null,"ベルク","ババリア","スウェーデン"]
[4,"オーストリア",9,"新プロシア基本",14,"オーストリア型２",19,null,null,"ウエストファリア","ヘッセ"]
[5,"ロシア基本",10,"新プロシア近衛",15,"イギリス基本",20,null,null,"ザクセン","ヴィテンブルグ"]
[null,null,null,null,null,null,null,null,null,null,"オランダ"]

{"sheet":"部隊別","index":9,"n_rows":22,"n_cols":1,"rows_kept":22,"cut":false,"hidden":false,"merged":[]}
["フランス軍"]
[1]
[2]
[3]
[4]
[5]
[6]
[7]
[8]
[9]
[10]
["連合軍"]
[1]
[2]
[3]
[4]
[5]
[6]
[7]
[8]
[9]
[10]

{"sheet":"部隊モラル表","index":10,"n_rows":11,"n_cols":9,"rows_kept":11,"cut":false,"hidden":false,"merged":[]}
["フランス軍",null,null,null,null,"連合軍"]
["部隊名称","離脱大隊数","士気レベル","部隊モラル",null,{"$f":"A2","v":"部隊名称"},{"$f":"B2","v":"離脱大隊数"},"士気レベル","部隊モラル"]
["Legrand師団",2,1,-3,null,"ロシア軍",3,1,-4]
["Legrand師団",4,2,-6,null,"ロシア軍",7,2,-6]
["Legrand師団",6,3,-9,null,"ロシア軍",10,3,-8]
["Oudinoｔ師団",2,1,-3]
["Oudinoｔ師団",4,2,-6]
["Oudinoｔ師団",6,3,-9]
["Suchet師団",2,1,-3]
["Suchet師団",4,2,-6]
["Suchet師団",6,3,-9]

{"sheet":"方陣表","index":11,"n_rows":9,"n_cols":19,"rows_kept":9,"cut":false,"hidden":false,"merged":[[0,1,0,4],[0,5,0,8],[0,11,0,14],[0,15,0,18],[6,2,6,6],[6,7,6,8],[6,12,6,16],[6,17,6,18]]}
["フランス軍","縦隊から",null,null,null,"横隊から",null,null,null,null,"ロシア軍","縦隊から",null,null,null,"横隊から"]
["距離","方陣","混乱","潰走","上限",{"$f":"B2","v":"方陣"},{"$f":"C2","v":"混乱"},"潰走","上限",null,"距離","方陣","混乱","潰走","上限",{"$f":"L2","v":"方陣"},{"$f":"M2","v":"混乱"},"潰走","上限"]
["4HEX",11,97,98,99,11,65,98,99,null,"4HEX",11,56,65,99,11,97,98,99]
["3HEX",11,97,98,99,11,46,62,99,null,"3HEX",11,43,61,99,11,97,98,99]
["2HEX",11,44,62,99,11,33,56,99,null,"2HEX",11,31,53,99,11,35,56,99]
["1HEX",11,32,55,99,11,23,54,99,null,"1HEX",11,23,51,99,11,32,51,99]
["指揮官補正",-6,"歩兵種別補正",null,null,null,null,"騎兵種別補正",null,null,"指揮官補正",-6,"歩兵種別補正",null,null,null,null,"騎兵種別補正"]
["部隊モラル",3,"軽歩兵","同盟兵","擲弾兵","親衛隊",null,"軽騎兵","槍騎兵",null,"部隊モラル",3,"軽歩兵","擲弾兵","親衛隊",null,null,"軽騎兵","槍騎兵"]
[null,null,-3,3,-3,-6,null,3,6,null,null,null,-3,-3,-6,null,null,3,6]

{"sheet":"環境表","index":12,"n_rows":73,"n_cols":5,"rows_kept":73,"cut":false,"hidden":false,"merged":[]}
[null,"時","分","時間帯","天候"]
[{"$f":"B2*100+C2","v":0},0,0,"夜","晴"]
[{"$f":"B3*100+C3","v":20},0,20,"夜","晴"]
[40,0,40,"夜","晴"]
[100,1,0,"夜","晴"]
[120,1,20,"夜","晴"]
[140,1,40,"夜","晴"]
[200,2,0,"夜","晴"]
[220,2,20,"夜","晴"]
[240,2,40,"夜","晴"]
[300,3,0,"夜","晴"]
[320,3,20,"夜","晴"]
[340,3,40,"夜","晴"]
[400,4,0,"夜","晴"]
[420,4,20,"夜","晴"]
[440,4,40,"夜","晴"]
[500,5,0,"夜","晴"]
[520,5,20,"夜","晴"]
[540,5,40,"夜","晴"]
[600,6,0,"夜","晴"]
[620,6,20,"日出前","晴"]
[640,6,40,"日出前","晴"]
[700,7,0,"昼","晴"]
[720,7,20,"昼","晴"]
[740,7,40,"昼","晴"]
[800,8,0,"昼","晴"]
[820,8,20,"昼","晴"]
[840,8,40,"昼","晴"]
[900,9,0,"昼","晴"]
[920,9,20,"昼","晴"]
[940,9,40,"昼","晴"]
[1000,10,0,"昼","晴"]
[1020,10,20,"昼","晴"]
[1040,10,40,"昼","晴"]
[1100,11,0,"昼","晴"]
[1120,11,20,"昼","晴"]
[1140,11,40,"昼","晴"]
[1200,12,0,"昼","晴"]
[1220,12,20,"昼","晴"]
[1240,12,40,"昼","晴"]
[1300,13,0,"昼","晴"]
[1320,13,20,"昼","晴"]
[1340,13,40,"昼","晴"]
[1400,14,0,"昼","晴"]
[1420,14,20,"昼","晴"]
[1440,14,40,"昼","晴"]
[1500,15,0,"昼","晴"]
[1520,15,20,"昼","晴"]
[1540,15,40,"昼","晴"]
[1600,16,0,"昼","晴"]
[1620,16,20,"昼","晴"]
[1640,16,40,"昼","晴"]
[1700,17,0,"昼","晴"]
[1720,17,20,"昼","晴"]
[1740,17,40,"日入後","晴"]
[1800,18,0,"日入後","晴"]
[1820,18,20,"日入後","晴"]
[1840,18,40,"夜","晴"]
[1900,19,0,"夜","晴"]
[1920,19,20,"夜","晴"]
[1940,19,40,"夜","晴"]
[2000,20,0,"夜","晴"]
[2020,20,20,"夜","晴"]
[2040,20,40,"夜","晴"]
[2100,21,0,"夜","晴"]
[2120,21,20,"夜","晴"]
[{"$f":"B67*100+C67","v":2140},21,40,"夜","晴"]
[2200,22,0,"夜","晴"]
[2220,22,20,"夜","晴"]
[2240,22,40,"夜","晴"]
[2300,23,0,"夜","晴"]
[2320,23,20,"夜","晴"]
[2340,23,40,"夜","晴"]

{"sheet":"増援表","index":13,"n_rows":73,"n_cols":7,"rows_kept":73,"cut":false,"hidden":false,"merged":[]}
[null,"時","分","フランス軍","連合軍","可変2","部隊別"]
[{"$f":"B2*100+C2","v":0},0,0]
[{"$f":"B3*100+C3","v":20},0,20]
[40,0,40]
[100,1,0]
[120,1,20]
[140,1,40]
[200,2,0]
[220,2,20]
[240,2,40]
[300,3,0]
[320,3,20]
[340,3,40]
[400,4,0]
[420,4,20]
[440,4,40]
[500,5,0]
[520,5,20]
[540,5,40]
[600,6,0]
[620,6,20]
[640,6,40]
[700,7,0]
[720,7,20]
[740,7,40]
[800,8,0]
[820,8,20]
[840,8,40]
[900,9,0]
[920,9,20]
[940,9,40]
[1000,10,0]
[1020,10,20]
[1040,10,40]
[1100,11,0]
[1120,11,20]
[1140,11,40]
[1200,12,0]
[1220,12,20]
[1240,12,40]
[1300,13,0]
[1320,13,20]
[1340,13,40]
[1400,14,0]
[1420,14,20]
[1440,14,40]
[1500,15,0]
[1520,15,20]
[1540,15,40]
[1600,16,0,12]
[1620,16,20,12]
[1640,16,40]
[1700,17,0,12]
[1720,17,20,12]
[1740,17,40,12]
[1800,18,0]
[1820,18,20]
[1840,18,40]
[1900,19,0]
[1920,19,20]
[1940,19,40]
[2000,20,0]
[2020,20,20]
[2040,20,40]
[2100,21,0]
[2120,21,20]
[{"$f":"B67*100+C67","v":2140},21,40]
[2200,22,0]
[2220,22,20]
[2240,22,40]
[2300,23,0]
[2320,23,20]
[2340,23,40]

{"sheet":"部隊別表","index":14,"n_rows":22,"n_cols":11,"rows_kept":22,"cut":false,"hidden":false,"merged":[]}
["フランス軍",1600,null,1620,null,1700,null,1720,null,1740]
[1,"1st Gr",null,"17th Light","*","40th Line","*","1st Ch","*","88th Line","*"]
[2,"2nd Gr",null,"34th Line","*","64th Line","*","13th Ch","*"]
[3,"9th Hu","*","26th Light","*","3rd Line","*","21th Ch","*"]
[4,"10th Hu","*","75th Line","*","18th Line","*"]
[5,"Lannes","*",null,null,"Corse Bn","*"]
[6,"Murat","*",null,null,"Po Bn","*"]
[7,null,null,null,null,"3rd Gr","*"]
[8,null,null,null,null,"4th Gr","*"]
[9]
[10]
["連合軍"]
[1]
[2]
[3]
[4]
[5]
[6]
[7]
[8]
[9]
[10]

{"sheet":"時刻変化","index":15,"n_rows":73,"n_cols":13,"rows_kept":73,"cut":false,"hidden":false,"merged":[]}
[null,"時","分","時間帯","天候",null,"現在時刻","時","分","時間帯","天候","天候文字","天候数値"]
[{"$f":"B2*100+C2","v":0},0,0,"夜","晴",null,{"$f":"H2*100+I2","v":900},9,0,{"$f":"LOOKUP(G2,A2:A73,D2:D73)","v":"昼"},{"$f":"LOOKUP(G2,A2:A73,E2:E73)","v":"晴"},{"$f":"MID(K2,1,2)","v":"晴"},{"$f":"IF(M3>2,MID(K2,3,M3-2),\"\")","v":""}]
[{"$f":"B3*100+C3","v":20},0,20,"夜","晴",null,null,null,null,null,null,null,{"$f":"LEN(K2)","v":1}]
[40,0,40,"夜","晴"]
[100,1,0,"夜","晴"]
[120,1,20,"夜","晴"]
[140,1,40,"夜","晴"]
[200,2,0,"夜","晴"]
[220,2,20,"夜","晴"]
[240,2,40,"夜","晴"]
[300,3,0,"夜","晴"]
[320,3,20,"夜","晴"]
[340,3,40,"夜","晴"]
[400,4,0,"夜","晴"]
[420,4,20,"夜","晴"]
[440,4,40,"夜","晴"]
[500,5,0,"夜","晴"]
[520,5,20,"夜","晴"]
[540,5,40,"夜","晴"]
[600,6,0,"夜","晴"]
[620,6,20,"日出前","晴"]
[640,6,40,"日出前","晴"]
[700,7,0,"昼","晴"]
[720,7,20,"昼","晴"]
[740,7,40,"昼","晴"]
[800,8,0,"昼","晴"]
[820,8,20,"昼","晴"]
[840,8,40,"昼","晴"]
[900,9,0,"昼","晴"]
[920,9,20,"昼","晴"]
[940,9,40,"昼","晴"]
[1000,10,0,"昼","晴"]
[1020,10,20,"昼","晴"]
[1040,10,40,"昼","晴"]
[1100,11,0,"昼","晴"]
[1120,11,20,"昼","晴"]
[1140,11,40,"昼","晴"]
[1200,12,0,"昼","晴"]
[1220,12,20,"昼","晴"]
[1240,12,40,"昼","晴"]
[1300,13,0,"昼","晴"]
[1320,13,20,"昼","晴"]
[1340,13,40,"昼","晴"]
[1400,14,0,"昼","晴"]
[1420,14,20,"昼","晴"]
[1440,14,40,"昼","晴"]
[1500,15,0,"昼","晴"]
[1520,15,20,"昼","晴"]
[1540,15,40,"昼","晴"]
[1600,16,0,"昼","晴"]
[1620,16,20,"昼","晴"]
[1640,16,40,"昼","晴"]
[1700,17,0,"昼","晴"]
[1720,17,20,"昼","晴"]
[1740,17,40,"日入後","晴"]
[1800,18,0,"日入後","晴"]
[1820,18,20,"日入後","晴"]
[1840,18,40,"夜","晴"]
[1900,19,0,"夜","晴"]
[1920,19,20,"夜","晴"]
[1940,19,40,"夜","晴"]
[2000,20,0,"夜","晴"]
[2020,20,20,"夜","晴"]
[2040,20,40,"夜","晴"]
[2100,21,0,"夜","晴"]
[2120,21,20,"夜","晴"]
[{"$f":"B67*100+C67","v":2140},21,40,"夜","晴"]
[2200,22,0,"夜","晴"]
[2220,22,20,"夜","晴"]
[2240,22,40,"夜","晴"]
[2300,23,0,"夜","晴"]
[2320,23,20,"夜","晴"]
[2340,23,40,"夜","晴"]

{"sheet":"天候変化","index":16,"n_rows":67,"n_cols":17,"rows_kept":67,"cut":false,"hidden":false,"merged":[]}
[null,"賽の目min","天候",null,null,null,null,"対象ゲーム","天候結果","天候数値","乱数２","検索キー",null,"歩兵","騎兵","砲兵"]
["可変1",11,"晴",{"$f":"VALUE(MID(B2,1,1))","v":1},{"$f":"VALUE(MID(B2,2,1))","v":1},{"$f":"(D2-1)*6+E2","v":1},{"$f":"F2+100*VALUE(MID(A2,3,1))","v":101},"Albuera",{"$f":"LOOKUP(L2,G2:G37,C2:C37)","v":{"$error":"#N/A"}},null,{"$f":"士気2!J39","v":20},{"$f":"J2*100+K2","v":20},null,{"$f":"IF($J$2=7,N48,N59)","v":-50},{"$f":"IF($J$2=7,O48,O59)","v":-43},-76]
["可変1",22,"小雨",{"$f":"VALUE(MID(B3,1,1))","v":2},{"$f":"VALUE(MID(B3,2,1))","v":2},8,{"$f":"F3+100*VALUE(MID(A3,3,1))","v":108},"Albuera"]
["可変1",51,"霧",5,1,25,125,"Albuera",null,"濃淡霧の視程","時刻（時）","LOSのmax"]
["可変1",62,"雨",6,2,32,132,"Albuera",null,"現在",{"$f":"時刻変化!H2","v":9},{"$f":"LOOKUP(K5,K11:K17,L11:L17)","v":4}]
["可変1",66,"激しい雨",6,6,{"$f":"(D6-1)*6+E6","v":36},136,"Albuera",null,"条件",0,99]
["可変2",11,"晴",1,1,{"$f":"(D7-1)*6+E7","v":1},201,"Albuera",null,null,1,99]
["可変2",21,"小雨",2,1,7,207,"Albuera",null,null,2,99]
["可変2",34,"霧",3,4,16,216,"Albuera",null,null,3,99]
["可変2",51,"雨",5,1,25,225,"Albuera",null,null,4,99,null,"雪の補正"]
["可変2",65,"激しい雨",6,5,35,235,"Albuera",null,null,5,99,null,"前回値","乱数１","補正値","天候結果"]
["可変3",11,"晴",1,1,1,301,"Albuera",null,null,6,99,null,1,{"$f":"士気2!J38","v":2},6,"吹雪"]
["可変3",14,"小雨",1,4,4,304,"Albuera",null,null,7,{"$f":"ROUNDDOWN(RANDBETWEEN(100,699)/100,0)+1","v":2},"Auerstat"]
["可変3",22,"霧",2,2,8,308,"Albuera",null,null,8,{"$f":"ROUNDDOWN(RANDBETWEEN(100,699)/100,0)+2","v":8},"Auerstat"]
["可変3",34,"雨",3,4,16,316,"Albuera",null,null,9,{"$f":"ROUNDDOWN(RANDBETWEEN(100,699)/100,0)+3","v":4},"Auerstat"]
["可変3",45,"激しい雨",4,5,23,323,"Albuera",null,null,10,99,null,"Dredenの視程",null,"LOSのmax"]
["可変4",11,"晴",1,1,1,401,"Albuera",null,null,11,99,null,"現在",{"$f":"J2","v":0},{"$f":"LOOKUP(O17,O18:O20,P18:P20)","v":{"$error":"#N/A"}}]
["可変4",34,"小雨",3,4,16,416,"Albuera",null,null,12,99,null,"条件",9,6,"07:00:00"]
["可変4",51,"霧",5,1,25,425,"Albuera",null,null,13,99,null,null,10,8,"07:20:00"]
["可変4",64,"雨",6,4,34,434,"Albuera",null,null,14,99,null,null,11,10,"07:40:00"]
["可変4",66,"激しい雨",6,6,36,436,"Albuera",null,null,15,99]
["可変5",11,"晴",{"$f":"VALUE(MID(B22,1,1))","v":1},{"$f":"VALUE(MID(B22,2,1))","v":1},{"$f":"(D22-1)*6+E22","v":1},{"$f":"F22+100*VALUE(MID(A22,3,1))","v":501},"Eylau",null,null,16,99]
["可変5",31,"雪",3,1,13,513,"Eylau",null,null,17,99]
["可変5",61,"吹雪",6,1,31,531,"Eylau",null,null,18,99]
["可変6",11,"雷雨",{"$f":"VALUE(MID(B25,1,1))","v":1},{"$f":"VALUE(MID(B25,2,1))","v":1},{"$f":"(D25-1)*6+E25","v":1},{"$f":"F25+100*VALUE(MID(A25,3,1))","v":601},"Ligny",null,null,19,99]
["可変6",15,"晴",1,5,5,605,"Ligny",null,null,20,99]
["可変7",11,"泥濘",{"$f":"VALUE(MID(B27,1,1))","v":1},{"$f":"VALUE(MID(B27,2,1))","v":1},{"$f":"(D27-1)*6+E27","v":1},{"$f":"F27+100*VALUE(MID(A27,3,1))","v":701},"Vauchamps",null,null,21,99]
["可変7",66,"泥濘",6,6,36,736,"Vauchamps",null,null,22,99]
["可変8",11,"泥濘",1,1,1,801,"Vauchamps",null,null,23,99]
["可変8",66,"泥濘",6,6,36,836,"Vauchamps"]
["可変9",11,"可変雨",{"$f":"VALUE(MID(B31,1,1))","v":1},{"$f":"VALUE(MID(B31,2,1))","v":1},{"$f":"(D31-1)*6+E31","v":1},{"$f":"F31+100*VALUE(MID(A31,3,1))","v":901},"Dresden",null,"雷雨の場所","乱数５",{"$f":"士気2!J42","v":31},"発生箇所",{"$f":"LOOKUP(L31,N33:N44,K33:K44)","v":"SW+NW"}]
["可変9",66,"可変雨",6,6,36,936,"Dresden",null,"賽の目min","箇所"]
["可変10",11,"可変雨",1,1,1,{"$f":"F33+100*VALUE(MID(A33,3,2))","v":1001},"Dresden",null,11,"QB",{"$f":"VALUE(MID(J33,1,1))","v":1},{"$f":"VALUE(MID(J33,2,1))","v":1},{"$f":"(L33-1)*6+M33","v":1},"Ligny"]
["可変10",66,"可変雨",6,6,36,{"$f":"F34+100*VALUE(MID(A34,3,2))","v":1036},"Dresden",null,14,"NE",{"$f":"VALUE(MID(J34,1,1))","v":1},{"$f":"VALUE(MID(J34,2,1))","v":4},{"$f":"(L34-1)*6+M34","v":4},"Ligny"]
["可変11",11,"可変雨",1,1,1,1101,"Dresden",null,23,"SE",2,3,9,"Ligny"]
["可変11",66,"可変雨",6,6,36,1136,"Dresden",null,32,"SW",3,2,14,"Ligny"]
["可変12",11,"要調整！",{"$f":"VALUE(MID(B37,1,1))","v":1},{"$f":"VALUE(MID(B37,2,1))","v":1},{"$f":"(D37-1)*6+E37","v":1},1201,null,null,41,"NW",4,1,19,"Ligny"]
[null,null,null,null,null,null,null,null,null,46,"QB+NW",4,6,24,"Ligny"]
[null,null,null,null,null,null,null,null,null,51,"NE+SE",5,1,25,"Ligny"]
[null,null,null,null,null,null,null,null,null,54,"SE+SW",5,4,28,"Ligny"]
[null,null,null,null,null,null,null,null,null,61,"SW+NW",6,1,31,"Ligny"]
[null,null,null,null,null,null,null,null,null,63,"SW+NW+QB",6,3,33,"Ligny"]
[null,null,null,null,null,null,null,null,null,64,"NW+NE",6,4,34,"Ligny"]
[null,null,null,null,null,null,null,null,null,66,"NW+NE+QB",6,6,36,"Ligny"]
[]
[null,null,null,null,null,null,null,null,null,"泥濘の移動低下1"]
[null,null,null,null,null,null,null,null,null,"Vauchamps 0900-1100"]
[null,null,null,null,null,null,null,null,null,"乱数５",{"$f":"士気2!J42","v":31},null,"該当",{"$f":"LOOKUP(K48,M50:M56,N50:N56)","v":-30},{"$f":"LOOKUP(K48,M50:M56,O50:O56)","v":-36},{"$f":"LOOKUP(K48,M50:M56,P50:P56)","v":-50}]
[null,null,null,null,null,null,null,null,null,"賽の目min",null,null,null,"歩兵","騎兵","砲兵"]
[null,null,null,null,null,null,null,null,null,11,{"$f":"VALUE(MID(J50,1,1))","v":1},{"$f":"VALUE(MID(J50,2,1))","v":1},{"$f":"(K50-1)*6+L50","v":1},0,0,0]
[null,null,null,null,null,null,null,null,null,21,2,1,{"$f":"(K51-1)*6+L51","v":7},0,-7,-15]
[null,null,null,null,null,null,null,null,null,31,3,1,13,-15,-14,-15]
[null,null,null,null,null,null,null,null,null,41,4,1,19,-15,-21,-30]
[null,null,null,null,null,null,null,null,null,51,5,1,25,-30,-28,-30]
[null,null,null,null,null,null,null,null,null,61,6,1,31,-30,-36,-50]
[null,null,null,null,null,null,null,null,null,66,6,6,36,-30,-36,-50]
[null,null,null,null,null,null,null,null,null,"泥濘の移動低下2"]
[null,null,null,null,null,null,null,null,null,"Vauchamps 1120-"]
[null,null,null,null,null,null,null,null,null,"乱数５",{"$f":"士気2!J42","v":31},null,"該当",{"$f":"LOOKUP(K59,M61:M67,N61:N67)","v":-50},{"$f":"LOOKUP(K59,M61:M67,O61:O67)","v":-43},{"$f":"LOOKUP(K59,M61:M67,P61:P67)","v":-76}]
[null,null,null,null,null,null,null,null,null,"賽の目min",null,null,null,"歩兵","騎兵","砲兵"]
[null,null,null,null,null,null,null,null,null,11,{"$f":"VALUE(MID(J61,1,1))","v":1},{"$f":"VALUE(MID(J61,2,1))","v":1},{"$f":"(K61-1)*6+L61","v":1},0,-7,-15]
[null,null,null,null,null,null,null,null,null,21,2,1,7,-15,-14,-15]
[null,null,null,null,null,null,null,null,null,31,3,1,13,-15,-21,-30]
[null,null,null,null,null,null,null,null,null,41,4,1,19,-30,-28,-50]
[null,null,null,null,null,null,null,null,null,51,5,1,25,-30,-36,-60]
[null,null,null,null,null,null,null,null,null,61,6,1,31,-50,-43,-76]
[null,null,null,null,null,null,null,null,null,66,6,6,36,-50,-43,-76]

{"sheet":"天候","index":17,"n_rows":28,"n_cols":21,"rows_kept":28,"cut":false,"hidden":false,"merged":[]}
[null,"日出前","昼","日入後","夜",null,"晴","霧","小雨","雨","激しい雨","雪","吹雪","濃淡霧","雷雨","豪雨の後","水浸し","泥濘","朝霧","可変雨","濃霧"]
[null,1,2,3,4,null,1,2,3,4,5,6,7,8,9,10,11,12,13,14,15]
["LOSの最大HEX",3,99,3,2,null,99,4,10,6,1,6,1,89,5,99,99,99,4,88,4]
["散開隊形の射撃射程HEX",2,2,2,1,null,2,2,2,2,0,2,0,2,0,0,0,2,1,2,1]
["騎兵突撃",0,0,0,0,null,0,0,0,0,-99,0,-99,0,0,0,0,0,0,0,-99]
["騎兵突撃のボーナス",5,5,5,0,null,5,0,5,0,0,0,0,0,0,0,0,0,0,5,0]
["歩兵射撃の可否　補正(%)",0,0,0,-33,null,0,0,-33,-50,-99,-50,-99,0,-50,-99,0,0,0,0,-33]
["砲兵射撃の可否　補正(%)",-33,0,-33,-50,null,0,0,0,0,-99,0,-99,0,0,0,0,0,0,0,-33]
["歩兵移動力補正(%)",0,0,0,-50,null,0,-10,-10,-33,-70,-40,-80,-10,-50,0,0,79,0,0,-33]
["騎兵移動力補正(%)",0,0,0,-50,null,0,-20,-10,-33,-70,-40,-80,-20,-50,0,0,79,0,0,-33]
["砲兵移動力補正(%)",0,0,0,-50,null,0,-15,-10,-33,-70,-40,-80,-15,-50,-50,-50,79,0,0,-33]
[]
[]
[{"$f":"時間!A7","v":"時間帯"},{"$f":"時間!A8","v":"昼"},{"$f":"IF(B14=B1,1,IF(B14=C1,2,IF(B14=D1,3,4)))","v":2}]
[{"$f":"時間!B7","v":"天候"},{"$f":"時間!B8","v":"晴"},{"$f":"INDEX(G1:U2,2,MATCH(B15,G1:U1,0))","v":1}]
[]
[]
[]
[null,{"$f":"A14","v":"時間帯"},{"$f":"A15","v":"天候"},"可変","比較","変換"]
[{"$f":"A3","v":"LOSの最大HEX"},{"$f":"HLOOKUP($C$14,$B$2:$E$11,2,TRUE)","v":99},{"$f":"HLOOKUP($C$15,$G$2:$U$11,2,TRUE)","v":99},{"$f":"IF(C20=N3,天候変化!L5,IF(C20=T3,天候変化!P17,C20))","v":99},{"$f":"IF(B20<D20,B20,D20)","v":99},{"$f":"IF(E20=99,\"無限\",E20)","v":"無限"}]
["散開隊形の射撃射程HEX",{"$f":"HLOOKUP($C$14,$B$2:$E$11,3,TRUE)","v":2},{"$f":"HLOOKUP($C$15,$G$2:$U$11,3,TRUE)","v":2},{"$f":"C21","v":2},{"$f":"IF(B21<D21,B21,D21)","v":2},{"$f":"IF(E21=0,\"射撃不可\",E21)","v":2}]
["騎兵突撃",{"$f":"HLOOKUP($C$14,$B$2:$E$11,4,TRUE)","v":0},{"$f":"HLOOKUP($C$15,$G$2:$U$11,4,TRUE)","v":0},{"$f":"C22","v":0},0,{"$f":"IF(E22=-99,\"禁止\",\"可能\")","v":"可能"}]
["騎兵突撃のボーナス",{"$f":"HLOOKUP($C$14,$B$2:$E$11,5,TRUE)","v":5},{"$f":"HLOOKUP($C$15,$G$2:$U$11,5,TRUE)","v":5},5,5,{"$f":"IF(E23=0,\"なし\",\"移動力＋５\")","v":"移動力＋５"}]
["歩兵射撃の可否　補正(%)",{"$f":"HLOOKUP($C$14,$B$2:$E$11,6,TRUE)","v":0},{"$f":"HLOOKUP($C$15,$G$2:$U$11,6,TRUE)","v":0},0,0,{"$f":"IF(E24<=-99,\"射撃不可\",E24)","v":0}]
["砲兵射撃の可否　補正(%)",{"$f":"HLOOKUP($C$14,$B$2:$E$11,7,TRUE)","v":0},{"$f":"HLOOKUP($C$15,$G$2:$U$11,7,TRUE)","v":0},0,0,{"$f":"IF(E25<=-99,\"射撃不可\",E25)","v":0}]
["歩兵移動力補正(%)",{"$f":"HLOOKUP($C$14,$B$2:$E$11,8,TRUE)","v":0},{"$f":"HLOOKUP($C$15,$G$2:$U$11,8,TRUE)","v":0},{"$f":"IF(C26=79,天候変化!N2,C26)","v":0},0,{"$f":"E26","v":0}]
["騎兵移動力補正(%)",{"$f":"HLOOKUP($C$14,$B$2:$E$11,9,TRUE)","v":0},{"$f":"HLOOKUP($C$15,$G$2:$U$11,9,TRUE)","v":0},{"$f":"IF(C27=79,天候変化!O2,C27)","v":0},0,{"$f":"E27","v":0}]
["砲兵移動力補正(%)",{"$f":"HLOOKUP($C$14,$B$2:$E$11,10,TRUE)","v":0},{"$f":"HLOOKUP($C$15,$G$2:$U$11,10,TRUE)","v":0},{"$f":"IF(C28=79,天候変化!P2,C28)","v":0},{"$f":"IF(B28<D28,B28,D28)","v":0},{"$f":"E28","v":0}]

{"sheet":"増援計画","index":18,"n_rows":73,"n_cols":11,"rows_kept":73,"cut":false,"hidden":false,"merged":[]}
[null,"時","分","フランス軍","連合軍","可変2","部隊別","現在時刻","時","分","乱数１"]
[{"$f":"B2*100+C2","v":0},0,0,null,null,null,null,{"$f":"I2*100+J2","v":900},{"$f":"時刻変化!H2","v":9},{"$f":"時刻変化!I2","v":0},{"$f":"士気2!J38","v":2}]
[{"$f":"B3*100+C3","v":20},0,20,null,null,null,null,null,null,null,"乱数２"]
[40,0,40,null,null,null,null,"検索行数",{"$f":"D1","v":"フランス軍"},{"$f":"E1","v":"連合軍"},{"$f":"士気2!J39","v":20}]
[100,1,0,null,null,null,null,{"$f":"MATCH(H2,A2:A73,0)+1","v":29},{"$f":"LOOKUP(H2,A2:A73,D2:D73)","v":0},{"$f":"LOOKUP(H2,A2:A73,E2:E73)","v":0},"損失"]
[120,1,20,null,null,null,null,"遅延区分",{"$f":"I5-I8*100-I9*10","v":0},{"$f":"J5-J8*100-J9*10","v":0}]
[140,1,40,null,null,null,null,"定刻判定",0,0]
[200,2,0,null,null,null,null,"部隊識別",{"$f":"ROUNDDOWN(I5/100,0)","v":0},{"$f":"ROUNDDOWN(J5/100,0)","v":0}]
[220,2,20,null,null,null,null,"部隊別増援",{"$f":"ROUNDDOWN((I5-I8*100)/10,0)","v":0},{"$f":"ROUNDDOWN((J5-J8*100)/10,0)","v":0}]
[240,2,40,null,null,null,null,"増援表示",0,0]
[300,3,0]
[320,3,20]
[340,3,40]
[400,4,0]
[420,4,20]
[440,4,40]
[500,5,0]
[520,5,20]
[540,5,40]
[600,6,0]
[620,6,20]
[640,6,40]
[700,7,0]
[720,7,20]
[740,7,40]
[800,8,0]
[820,8,20]
[840,8,40]
[900,9,0]
[920,9,20]
[940,9,40]
[1000,10,0]
[1020,10,20]
[1040,10,40]
[1100,11,0]
[1120,11,20]
[1140,11,40]
[1200,12,0]
[1220,12,20]
[1240,12,40]
[1300,13,0]
[1320,13,20]
[1340,13,40]
[1400,14,0]
[1420,14,20]
[1440,14,40]
[1500,15,0]
[1520,15,20]
[1540,15,40]
[1600,16,0,12]
[1620,16,20,12]
[1640,16,40]
[1700,17,0,12]
[1720,17,20,12]
[1740,17,40,12]
[1800,18,0]
[1820,18,20]
[1840,18,40]
[1900,19,0]
[1920,19,20]
[1940,19,40]
[2000,20,0]
[2020,20,20]
[2040,20,40]
[2100,21,0]
[2120,21,20]
[{"$f":"B67*100+C67","v":2140},21,40]
[2200,22,0]
[2220,22,20]
[2240,22,40]
[2300,23,0]
[2320,23,20]
[2340,23,40]

{"sheet":"増援計画2","index":19,"n_rows":73,"n_cols":13,"rows_kept":73,"cut":false,"hidden":false,"merged":[]}
[null,"時","分","フランス軍1","フランス軍2","フランス軍3","フランス軍4","フランス軍5","連合軍1","連合軍2","連合軍3","連合軍4","連合軍5"]
[{"$f":"B2*100+C2","v":0},0,0]
[{"$f":"B3*100+C3","v":20},0,20]
[40,0,40]
[100,1,0]
[120,1,20]
[140,1,40]
[200,2,0]
[220,2,20]
[240,2,40]
[300,3,0]
[320,3,20]
[340,3,40]
[400,4,0]
[420,4,20]
[440,4,40]
[500,5,0]
[520,5,20]
[540,5,40]
[600,6,0]
[620,6,20]
[640,6,40]
[700,7,0]
[720,7,20]
[740,7,40]
[800,8,0]
[820,8,20]
[840,8,40]
[900,9,0]
[920,9,20]
[940,9,40]
[1000,10,0]
[1020,10,20]
[1040,10,40]
[1100,11,0]
[1120,11,20]
[1140,11,40]
[1200,12,0]
[1220,12,20]
[1240,12,40]
[1300,13,0]
[1320,13,20]
[1340,13,40]
[1400,14,0]
[1420,14,20]
[1440,14,40]
[1500,15,0]
[1520,15,20]
[1540,15,40]
[1600,16,0]
[1620,16,20]
[1640,16,40]
[1700,17,0]
[1720,17,20]
[1740,17,40]
[1800,18,0]
[1820,18,20]
[1840,18,40]
[1900,19,0]
[1920,19,20]
[1940,19,40]
[2000,20,0]
[2020,20,20]
[2040,20,40]
[2100,21,0]
[2120,21,20]
[{"$f":"B67*100+C67","v":2140},21,40]
[2200,22,0]
[2220,22,20]
[2240,22,40]
[2300,23,0]
[2320,23,20]
[2340,23,40]

{"sheet":"部隊別増援","index":20,"n_rows":22,"n_cols":11,"rows_kept":22,"cut":false,"hidden":false,"merged":[]}
["フランス軍",1600,null,1620,null,1700,null,1720,null,1740]
[1,"1st Gr",null,"17th Light","*","40th Line","*","1st Ch","*","88th Line","*"]
[2,"2nd Gr",null,"34th Line","*","64th Line","*","13th Ch","*"]
[3,"9th Hu","*","26th Light","*","3rd Line","*","21th Ch","*"]
[4,"10th Hu","*","75th Line","*","18th Line","*"]
[5,"Lannes","*",null,null,"Corse Bn","*"]
[6,"Murat","*",null,null,"Po Bn","*"]
[7,null,null,null,null,"3rd Gr","*"]
[8,null,null,null,null,"4th Gr","*"]
[9]
[10]
["連合軍"]
[1]
[2]
[3]
[4]
[5]
[6]
[7]
[8]
[9]
[10]

{"sheet":"部隊別損失","index":21,"n_rows":22,"n_cols":9,"rows_kept":22,"cut":false,"hidden":false,"merged":[]}
["フランス軍"]
[1,0,0,0,0,0,0,0,0]
[2,0,0,0,0,0,0,0,0]
[3,0,0,0,0,0,0,0,0]
[4,0,0,0,0,0,0,0,0]
[5,0,0,0,0,0,0,0,0]
[6,0,0,0,0,0,0,0,0]
[7,0,0,0,0,0,0,0,0]
[8,0,0,0,0,0,0,0,0]
[9,0,0,0,0,0,0,0,0]
[10,0,0,0,0,0,0,0,0]
["連合軍",0,0,0,0,0,0,0,0]
[1,0,0,0,0,0,0,0,0]
[2,0,0,0,0,0,0,0,0]
[3,0,0,0,0,0,0,0,0]
[4,0,0,0,0,0,0,0,0]
[5,0,0,0,0,0,0,0,0]
[6,0,0,0,0,0,0,0,0]
[7,0,0,0,0,0,0,0,0]
[8,0,0,0,0,0,0,0,0]
[9,0,0,0,0,0,0,0,0]
[10,0,0,0,0,0,0,0,0]

{"sheet":"射撃結果表","index":22,"n_rows":37,"n_cols":16,"rows_kept":37,"cut":false,"hidden":false,"merged":[]}
[0,0,0,0,0,0,0,0,0,0,1,1,1,1,2,2]
[0,0,0,0,0,0,0,0,0,0,1,1,1,1,2,2]
[0,0,0,0,0,0,0,0,0,1,1,1,1,1,2,2]
[0,0,0,0,0,0,0,0,0,1,1,1,1,1,2,2]
[0,0,0,0,0,0,0,0,0,1,1,1,1,2,2,2]
[0,0,0,0,0,0,0,0,0,1,1,1,1,2,2,2]
[0,0,0,0,0,0,0,0,0,1,1,1,1,2,2,2]
[0,0,0,0,0,0,0,0,1,1,1,1,1,2,2,2]
[0,0,0,0,0,0,0,0,1,1,1,1,2,2,2,2]
[0,0,0,0,0,0,0,0,1,1,1,1,2,2,2,2]
[0,0,0,0,0,0,0,0,1,1,1,1,2,2,2,2]
[0,0,0,0,0,0,0,1,1,1,1,1,2,2,2,3]
[0,0,0,0,0,0,0,1,1,1,1,1,2,2,2,3]
[0,0,0,0,0,0,0,1,1,1,1,1,2,2,2,3]
[0,0,0,0,0,0,1,1,1,1,1,2,2,2,2,3]
[0,0,0,0,0,0,1,1,1,1,1,2,2,2,2,3]
[0,0,0,0,0,0,1,1,1,1,1,2,2,2,2,3]
[0,0,0,0,0,0,1,1,1,1,1,2,2,2,2,3]
[0,0,0,0,0,0,1,1,1,1,1,2,2,2,2,3]
[0,0,0,0,0,1,1,1,1,1,1,2,2,2,3,3]
[0,0,0,0,0,1,1,1,1,1,1,2,2,2,3,3]
[0,0,0,0,0,1,1,1,1,1,1,2,2,2,3,3]
[0,0,0,0,0,1,1,1,1,1,2,2,2,3,3,3]
[0,0,0,0,0,1,1,1,1,1,2,2,2,3,3,3]
[0,0,0,0,0,1,1,1,1,1,2,2,2,3,3,3]
[0,0,0,0,1,1,1,1,1,1,2,2,3,3,3,3]
[0,0,0,0,1,1,1,1,1,1,2,2,3,3,3,3]
[0,0,0,0,1,1,1,1,1,2,2,2,3,3,3,3]
[0,0,0,1,1,1,1,1,1,2,2,2,3,3,3,4]
[0,0,0,1,1,1,1,1,1,2,2,2,3,3,3,4]
[0,0,0,1,1,1,1,1,1,2,2,2,3,3,3,4]
[0,0,1,1,1,1,1,1,1,2,2,3,3,3,3,4]
[0,0,1,1,1,1,1,1,1,2,2,3,3,3,4,4]
[0,1,1,1,1,1,1,1,1,2,2,3,3,3,4,4]
[1,1,1,1,1,1,1,1,1,2,2,3,3,3,4,5]
[1,1,1,1,1,1,1,1,1,2,2,3,3,4,4,5]
["1/3","1/2.5","1/2","1/1.5","1/1","1.5/1","2/1","2.5/1","3/1","4/1","5/1","6/1","7/1","8/1","9/1","10/1"]

{"sheet":"白兵戦結果表","index":23,"n_rows":42,"n_cols":10,"rows_kept":42,"cut":false,"hidden":false,"merged":[]}
["AR","AD","AD","AD",null,null,null,"*2/1","3/2","DD"]
["AR","AD","AD",null,null,null,null,"1/2","DD","DD"]
["AR","AD",null,null,null,null,"*2/2","0/2","DD","DD"]
["AR","AD",null,null,null,null,"3/3","0/1*","DD","DD"]
["AD","AD",null,null,null,null,"2/4","1/1*","DD","DD"]
["AD",null,null,null,null,"0/0*","3/1","DD","DD","DD"]
["AD",null,null,null,null,"2/3","0/1*","DD","DD","DD"]
["AD",null,null,null,null,"0/2","DD","DD","DD","DD"]
["AD",null,null,null,"1/4","*2/0","DD","DD","DD","DD"]
["AD",null,null,null,"2/3","1/2","DD","DD","DD","DD"]
["AD",null,null,"0/3","*0/0","0/1","DD","DD","DD","DD"]
["AD",null,null,"1/2","1/1*","*2/3","DD","DD","DD","DD"]
["AD",null,null,"*2/1","2/3*","1/2*","DD","DD","DD","DD"]
["AD",null,null,null,"3/3","DD","DD","DD","DD","DD"]
["AD",null,"1/2","0/1*","0/1","DD","DD","DD","DD","DR"]
["AD",null,null,"1/0","1/0","DD","DD","DD","DD","DR"]
[null,null,"1/1","3/2","2/2*","DD","DD","DD","DD","DR"]
[null,null,"*2/0","1/1","DD","DD","DD","DD","DD","DR"]
[null,null,"0/1*","2/2*","DD","DD","DD","DD","DD","DR"]
[null,"*2/0","1/1","*1/2","DD","DD","DD","DD","DR","DR"]
[null,"2/1*","2/2*","*1/1","DD","DD","DD","DD","DR","DR"]
[null,"2/1","3/1","0/2*","DD","DD","DD","DD","DR","DR"]
[null,"*1/1","0/2","DD","DD","DD","DD","DD","DR","DR"]
[null,"1/2","2/1","DD","DD","DD","DD","DD","DR","DR"]
[null,"1/1","1/1*","DD","DD","DD","DD","DD","DR","DR"]
["*0/0","0/0*","*2/1","DD","DD","DD","DD","DD","DR","DR"]
["1/1","2/1","DD","DD","DD","DD","DD","DD","DR","DR"]
["1/2*","*1/2","DD","DD","DD","DD","DD","DD","DR","DR"]
["0/1","2/2","DD","DD","DD","DD","DD","DD","DR","DR"]
["1/0*",null,"DD","DD","DD","DD","DD","DR","DR","DR"]
["0/2","1/0*","DD","DD","DD","DD","DD","DR","DR","DR"]
["2/1*","DD","DD","DD","DD","DD","DR","DR","DR","DS"]
[null,"DD","DD","DD","DD","DD","DR","DR","DR","DS"]
["2/2","DD","DD","DD","DD","DD","DR","DR","DR","DS"]
["DD","DD","DD","DD","DD","DR","DR","DR","DR","DS"]
["DD","DD","DD","DD","DD","DR","DR","DR","DS","DS"]
["1/2","1/1","1.5/1","2/1","2.5/1","3/1","3.5/1","4/1","4.5/1","5/1"]
[]
[]
[]
["space","AD","AR","DD","DR","DS"]
["*","n","/","m","*"]

{"sheet":"攻撃係数","index":24,"n_rows":29,"n_cols":11,"rows_kept":29,"cut":false,"hidden":false,"merged":[]}
["隊形",null,null,"歩兵","騎兵","砲兵",null,"隊形の特殊条件"]
[null,1,"縦隊",1,1,0,null,null,"騎兵種類による補正(99)"]
[null,2,"横隊",1,99,0,null,null,null,"重騎兵（移動力が１２以下）",0.5]
[null,3,"散開隊形",0.5,0.5,0,null,null,null,"軽騎兵（移動力が１３以上）",1]
[null,4,"一般隊形",1,0.33,0,null,null,"騎兵同士の戦い"]
[null,5,"行軍隊形",0.25,0.25,0,null,null,1,"重騎兵補正",2]
[null,6,"方陣",1,0,0]
[null,7,"大隊密集",1,0,0]
[null,8,"師団密集",1,0,0]
[null,9,"牽引隊形",0,0,1]
[null,10,"展開隊形",0,0,1]
[null,11,"混乱",0.5,0.5,0.5]
[null,12,"潰走",0.33,0.25,0.33]
[]
["騎兵疲労状態",null,null,null,null,null,null,"騎兵突撃"]
[null,1,"通常",1,null,null,null,null,1,"通常突撃",2]
[null,2,"疲労",0.5]
[null,3,"損耗",0.33]
[]
["攻撃側の補正"]
[null,"攻撃方向"]
[null,1,"側面",2]
[null,2,"背面",1.5]
[null,"地形"]
[null,1,"小川を渡る攻撃",0.66]
[]
[null,"方陣攻撃の兵科補正"]
[null,null,"攻撃側が歩兵",1.5]
[null,null,"攻撃側が騎兵",0.33]

{"sheet":"突撃補正","index":25,"n_rows":28,"n_cols":5,"rows_kept":28,"cut":false,"hidden":false,"merged":[]}
[null,"項目","補正値","自家修正"]
["攻撃方向"]
[null,"正面からの騎兵突撃",0]
[null,"側面からの騎兵突撃",-12]
[null,"背面からの騎兵突撃",-6]
[]
["小川を渡る突撃"]
[null,"無し",0]
[null,"有り",6]
[]
["騎兵の種類"]
[null,"下記以外の騎兵による突撃",0]
[null,"槍騎兵による突撃",-6]
[null,"重騎兵による突撃",-3]
[]
["防御側の隊形"]
[null,"縦隊",0]
[null,"横隊",3]
[null,"散開隊形",0]
[null,"一般隊形",0]
[null,"行軍隊形",0]
[null,"方陣",0]
[null,"大隊密集",3]
[null,"師団密集",2]
[null,"牽引隊形",0]
[null,"展開隊形",0]
[null,"混乱",-3,-6,"基本の補正と重複する分を引いて－３"]
[null,"潰走",0]

{"sheet":"戦力補正","index":26,"n_rows":8,"n_cols":3,"rows_kept":8,"cut":false,"hidden":false,"merged":[]}
[null,"修正値"]
["戦力比","攻撃側","防御側"]
["１未満",-6,6]
[1,-3,3]
[2,0,0]
[3,3,-3]
[4,6,-6]
[5,9,-9]

{"sheet":"白兵補正","index":27,"n_rows":26,"n_cols":7,"rows_kept":26,"cut":false,"hidden":false,"merged":[]}
[null,null,"補正値",null,"自家修正前"]
[null,"項目","攻撃側","防御側","攻撃側","防御側"]
["攻撃方向"]
[null,"正面からの強襲",0,0]
[null,"側面からの強襲",12,-12]
[null,"背面からの強襲",6,-6]
[]
["障害地形をまたぐ強襲"]
[null,"障害地形なし"]
[null,"登坂による強襲",-3,3]
[null,"小川を渡る強襲",-3,3]
[null,"登坂と小川の両方",-6,6]
[]
["防御側の隊形"]
[null,"縦隊",0,0]
[null,"横隊",0,-3]
[null,"散開隊形",0,-6]
[null,"一般隊形",0,0]
[null,"行軍隊形",0,0]
[null,"方陣",0,0,6,null,"基本の補正と重複するので０"]
[null,"大隊密集",0,0]
[null,"師団密集",0,0]
[null,"牽引隊形",0,0]
[null,"展開隊形",0,0]
[null,"混乱",3,0,null,-3,"基本の補正と重複するので０"]
[null,"潰走",6,0,null,-6,"基本の補正と重複するので０"]

{"sheet":"補給補正2","index":28,"n_rows":9,"n_cols":21,"rows_kept":9,"cut":false,"hidden":false,"merged":[]}
["タイプ別・大砲別の補給失敗確率基本",1,2,3,4,5,6,7,8,9,10,11,12,13,14,15,16,17,18,19,20]
["pdr","フランス基本","フランスNap","フランス親衛隊","オーストリア","ロシア基本","ロシア近衛","旧プロシア基本","旧プロシア近衛","新プロシア基本","新プロシア近衛","フランス型１","フランス型２","オーストリア型１","オーストリア型２","イギリス基本","イギリス近衛隊","ポルトガル","スペイン"]
[12,7.514619883040935E-2,4.736842105263158E-2,1.959064327485378E-2,7.2777777777777775E-2,0.13737373737373737,0.10959595959595961,0.1673611111111111,0.11180555555555555,0.11180555555555555,8.4027777777777785E-2,0.10292397660818714,0.15847953216374269,0.10055555555555556,0.15847953216374269,"","","",0.15847953216374269]
[9,"","","","","","","","","","","","","","",0.11984126984126985,9.2063492063492069E-2,0.11984126984126985,""]
[8,7.2777777777777775E-2,4.5000000000000005E-2,1.7222222222222205E-2,"","","","","","","",0.10055555555555556,0.15611111111111112,"",0.15611111111111112,"","","",0.15611111111111112]
[6,6.5277777777777782E-2,3.7500000000000006E-2,9.722222222222205E-3,6.3777777777777767E-2,0.14555555555555555,0.11777777777777779,0.14711111111111111,9.1555555555555557E-2,9.1555555555555557E-2,6.3777777777777767E-2,9.3055555555555558E-2,0.14861111111111111,9.1555555555555557E-2,0.14861111111111111,0.11180555555555555,8.4027777777777785E-2,0.11180555555555555,0.14861111111111111]
["6（騎馬）",6.5277777777777782E-2,3.7500000000000006E-2,9.722222222222205E-3,0.10277777777777779,0.14555555555555555,0.11777777777777779,0.16111111111111109,0.10555555555555556,0.10555555555555556,7.7777777777777779E-2,9.3055555555555558E-2,0.14861111111111111,0.13055555555555556,0.14861111111111111,0.10849673202614379,8.0718954248366018E-2,0.10849673202614379,0.14861111111111111]
[4,6.3777777777777767E-2,3.5999999999999997E-2,8.2222222222221968E-3,"","","","","","","",9.1555555555555557E-2,0.14711111111111111,"",0.14711111111111111,"","","",0.14711111111111111]
[3,8.7777777777777774E-2,0.06,3.2222222222222194E-2,8.7777777777777774E-2,"","","","","","",0.11555555555555555,0.1711111111111111,0.11555555555555555,0.1711111111111111,"","","",0.1711111111111111]

{"sheet":"隊形補正","index":29,"n_rows":9,"n_cols":19,"rows_kept":9,"cut":false,"hidden":false,"merged":[]}
[null,1,2,3,4,5,6,7,8,9,10,11,12,13,14,15,16,17,18]
["pdr","フランス基本","フランスNap","フランス親衛隊","オーストリア","ロシア基本","ロシア近衛","旧プロシア基本","旧プロシア近衛","新プロシア基本","新プロシア近衛","フランス型１","フランス型２","オーストリア型１","オーストリア型２","イギリス基本","イギリス近衛隊","ポルトガル","スペイン"]
[12,6,9,15,6,4,8,1,1,3,7,null,null,6,3]
[9,null,null,null,null,null,null,null,null,null,null,null,null,null,null,10,14,6]
[8,12,15,21]
[6,16,18,24,16,16,20,{"$f":"J6-6","v":5},{"$f":"K6-6","v":9},11,15,16,10,16,10,15,19,9,6]
["6（騎馬）",{"$f":"B6","v":16},{"$f":"C6","v":18},{"$f":"D6","v":24},18,{"$f":"F6","v":16},{"$f":"G6","v":20},{"$f":"J7-6","v":9},{"$f":"K7-6","v":13},15,19,{"$f":"L6","v":16},{"$f":"M6","v":10},18,12,{"$f":"P6","v":15},{"$f":"Q6","v":19},{"$f":"R6","v":9},{"$f":"S6","v":6}]
[4,26,29,null,null,null,null,null,null,null,null,26,20]
[3,30,30,null,30,null,null,null,null,null,null,30,24,30,24]

{"sheet":"超有能指揮官","index":30,"n_rows":4,"n_cols":4,"rows_kept":4,"cut":false,"hidden":false,"merged":[]}
["Ｎｏ","指揮官名","射撃補正","敵の士気補正"]
[1,"ナポレオン",12,-8]
[2,"セナルモン",9,-5]
[3,"ドルーオ",9,-5]